{
 "currentVersion": 10.91,
 "serviceDescription": "LOCA_USA_Alaska_Climate_Thresholds",
 "name": "LOCA_USA_Alaska_Climate_Thresholds",
 "description": "",
 "extent": {
  "xmin": -179.99999999999997,
  "ymin": 49.80443611521686,
  "xmax": 179.97729862653298,
  "ymax": 75.50831565500005,
  "spatialReference": {
   "wkid": 4326,
   "latestWkid": 4326
  }
 },
 "initialExtent": {
  "xmin": -179.99999999999997,
  "ymin": 49.80443611521686,
  "xmax": 179.97729862653298,
  "ymax": 75.50831565500005,
  "spatialReference": {
   "wkid": 4326,
   "latestWkid": 4326
  }
 },
 "fullExtent": {
  "xmin": -179.99999999999997,
  "ymin": 49.80443611521686,
  "xmax": 179.97729862653298,
  "ymax": 75.50831565500005,
  "spatialReference": {
   "wkid": 4326,
   "latestWkid": 4326
  }
 },
 "pixelSizeX": 0.12298506956834061,
 "pixelSizeY": 0.12298506956834061,
 "bandCount": 1,
 "pixelType": "F64",
 "minPixelSize": 0,
 "maxPixelSize": 0,
 "copyrightText": "",
 "serviceDataType": "esriImageServiceDataTypeScientific",
 "minValues": [
  0
 ],
 "maxValues": [
  0.7700000000000001
 ],
 "meanValues": [
  0.06515238456886502
 ],
 "stdvValues": [
  0.09443917843529269
 ],
 "objectIdField": "OBJECTID",
 "fields": [
  {
   "name": "OBJECTID",
   "type": "esriFieldTypeOID",
   "alias": "OBJECTID",
   "domain": null
  },
  {
   "name": "Shape",
   "type": "esriFieldTypeGeometry",
   "alias": "Shape",
   "domain": null
  },
  {
   "name": "Name",
   "type": "esriFieldTypeString",
   "alias": "Name",
   "domain": null,
   "length": 200
  },
  {
   "name": "MinPS",
   "type": "esriFieldTypeDouble",
   "alias": "MinPS",
   "domain": null
  },
  {
   "name": "MaxPS",
   "type": "esriFieldTypeDouble",
   "alias": "MaxPS",
   "domain": null
  },
  {
   "name": "LowPS",
   "type": "esriFieldTypeDouble",
   "alias": "LowPS",
   "domain": null
  },
  {
   "name": "HighPS",
   "type": "esriFieldTypeDouble",
   "alias": "HighPS",
   "domain": null
  },
  {
   "name": "Category",
   "type": "esriFieldTypeInteger",
   "alias": "Category",
   "domain": {
    "type": "codedValue",
    "name": "MosaicCatalogItemCategoryDomain",
    "description": "Catalog item categories.",
    "codedValues": [
     {
      "name": "Unknown",
      "code": 0
     },
     {
      "name": "Primary",
      "code": 1
     },
     {
      "name": "Overview",
      "code": 2
     },
     {
      "name": "Unprocessed Overview",
      "code": 3
     },
     {
      "name": "Partial Overview",
      "code": 4
     },
     {
      "name": "Inactive",
      "code": 5
     },
     {
      "name": "Uploaded",
      "code": 253
     },
     {
      "name": "Incomplete",
      "code": 254
     },
     {
      "name": "Custom",
      "code": 255
     }
    ],
    "mergePolicy": "esriMPTDefaultValue",
    "splitPolicy": "esriSPTDefaultValue"
   }
  },
  {
   "name": "Tag",
   "type": "esriFieldTypeString",
   "alias": "Tag",
   "domain": null,
   "length": 100
  },
  {
   "name": "GroupName",
   "type": "esriFieldTypeString",
   "alias": "GroupName",
   "domain": null,
   "length": 100
  },
  {
   "name": "ProductName",
   "type": "esriFieldTypeString",
   "alias": "ProductName",
   "domain": null,
   "length": 100
  },
  {
   "name": "CenterX",
   "type": "esriFieldTypeDouble",
   "alias": "CenterX",
   "domain": null
  },
  {
   "name": "CenterY",
   "type": "esriFieldTypeDouble",
   "alias": "CenterY",
   "domain": null
  },
  {
   "name": "ZOrder",
   "type": "esriFieldTypeInteger",
   "alias": "ZOrder",
   "domain": null
  },
  {
   "name": "Shape_Length",
   "type": "esriFieldTypeDouble",
   "alias": "Shape_Length",
   "domain": null
  },
  {
   "name": "Shape_Area",
   "type": "esriFieldTypeDouble",
   "alias": "Shape_Area",
   "domain": null
  }
 ],
 "capabilities": "Image,Metadata,Catalog,Mensuration",
 "defaultMosaicMethod": "ByAttribute",
 "allowedMosaicMethods": "ByAttribute,NorthWest,Center,LockRaster,Nadir,Viewpoint,Seamline,None",
 "sortField": "MinPS",
 "sortValue": "0",
 "sortAscending": true,
 "mosaicOperator": "First",
 "maxDownloadSizeLimit": 2048,
 "defaultCompressionQuality": 75,
 "defaultResamplingMethod": "Bilinear",
 "maxImageHeight": 30000,
 "maxImageWidth": 30000,
 "maxRecordCount": 1000,
 "maxDownloadImageCount": 20,
 "maxMosaicImageCount": 20,
 "allowRasterFunction": true,
 "rasterFunctionInfos": [
  {
   "name": "None",
   "description": "A No-Op Function.",
   "help": ""
  },
  {
   "name": "Annual number of days with precipitation 2016-2045 High emission scenario (RCP 8.5)",
   "description": "Annual number of days with precipitation RCP85 2016-2045",
   "help": "Annual number of days with total precipitation greater than 0 inch. High emission scenario (RCP 8.5). NOTE: Please choose None or Reset before choosing another definition query."
  },
  {
   "name": "Annual number of days with precipitation 2036-2065 High emission scenario (RCP 8.5)",
   "description": "Annual number of days with precipitation RCP85 2036-2065",
   "help": "Annual number of days with total precipitation greater than 0 inch. High emission scenario (RCP 8.5). NOTE: Please choose None or Reset before choosing another definition query."
  },
  {
   "name": "Annual number of days with precipitation 2070-2099 High emission scenario (RCP 8.5)",
   "description": "Annual number of days with precipitation RCP85 2070-2099",
   "help": "Annual number of days with total precipitation greater than 0 inch. High emission scenario (RCP 8.5). NOTE: Please choose None or Reset before choosing another definition query."
  },
  {
   "name": "Annual number of days with precipitation 1976-2005 Historical record",
   "description": "Annual number of days with precipitation historical 1976-2005",
   "help": "Annual number of days with total precipitation greater than 0 inch. Historical record. NOTE: Please choose None or Reset before choosing another definition query."
  },
  {
   "name": "Annual total precipitation for all days exceeding the 99th percentile 2016-2045 High emission scenario (RCP 8.5)",
   "description": "Annual total precipitation for all days exceeding the 99th percentile RCP85 2016-2045",
   "help": "Annual total precipitation for all days exceeding the 99th percentile, calculated with reference to 1976-2005 (inches). High emission scenario (RCP 8.5). NOTE: Please choose None or Reset before choosing another definition query."
  },
  {
   "name": "Annual total precipitation for all days exceeding the 99th percentile 2036-2065 High emission scenario (RCP 8.5)",
   "description": "Annual total precipitation for all days exceeding the 99th percentile RCP85 2036-2065",
   "help": "Annual total precipitation for all days exceeding the 99th percentile, calculated with reference to 1976-2005 (inches). High emission scenario (RCP 8.5). NOTE: Please choose None or Reset before choosing another definition query."
  },
  {
   "name": "Annual total precipitation for all days exceeding the 99th percentile 2070-2099 High emission scenario (RCP 8.5)",
   "description": "Annual total precipitation for all days exceeding the 99th percentile RCP85 2070-2099",
   "help": "Annual total precipitation for all days exceeding the 99th percentile, calculated with reference to 1976-2005 (inches). High emission scenario (RCP 8.5). NOTE: Please choose None or Reset before choosing another definition query."
  },
  {
   "name": "Annual total precipitation for all days exceeding the 99th percentile 1976-2005 Historical record",
   "description": "Annual total precipitation for all days exceeding the 99th percentile historical 1976-2005",
   "help": "Annual total precipitation for all days exceeding the 99th percentile, calculated with reference to 1976-2005 (inches). Historical record. NOTE: Please choose None or Reset before choosing another definition query."
  },
  {
   "name": "Cooling Degree Days 2016-2045 High emission scenario (RCP 8.5)",
   "description": "Cooling Degree Days RCP85 2016-2045",
   "help": "Cooling degree days (annual cumulative number of degrees by which the daily average temperature is greater than 65°F). High emission scenario (RCP 8.5). NOTE: Please choose None or Reset before choosing another definition query."
  },
  {
   "name": "Cooling Degree Days 2036-2065 High emission scenario (RCP 8.5)",
   "description": "Cooling Degree Days RCP85 2036-2065",
   "help": "Cooling degree days (annual cumulative number of degrees by which the daily average temperature is greater than 65°F). High emission scenario (RCP 8.5). NOTE: Please choose None or Reset before choosing another definition query."
  },
  {
   "name": "Cooling Degree Days 2070-2099 High emission scenario (RCP 8.5)",
   "description": "Cooling Degree Days RCP85 2070-2099",
   "help": "Cooling degree days (annual cumulative number of degrees by which the daily average temperature is greater than 65°F). High emission scenario (RCP 8.5). NOTE: Please choose None or Reset before choosing another definition query."
  },
  {
   "name": "Cooling Degree Days 1976-2005 Historical record",
   "description": "Cooling Degree Days historical 1976-2005",
   "help": "Cooling degree days (annual cumulative number of degrees by which the daily average temperature is greater than 65°F). Historical record. NOTE: Please choose None or Reset before choosing another definition query."
  },
  {
   "name": "Heating Degree Days 2016-2045 High emission scenario (RCP 8.5)",
   "description": "Heating Degree Days RCP85 2016-2045",
   "help": "Heating degree days (annual cumulative number of degrees by which the daily average temperature is less than 65°F). High emission scenario (RCP 8.5). NOTE: Please choose None or Reset before choosing another definition query."
  },
  {
   "name": "Heating Degree Days 2036-2065 High emission scenario (RCP 8.5)",
   "description": "Heating Degree Days RCP85 2036-2065",
   "help": "Heating degree days (annual cumulative number of degrees by which the daily average temperature is less than 65°F). High emission scenario (RCP 8.5). NOTE: Please choose None or Reset before choosing another definition query."
  },
  {
   "name": "Heating Degree Days 2070-2099 High emission scenario (RCP 8.5)",
   "description": "Heating Degree Days RCP85 2070-2099",
   "help": "Heating degree days (annual cumulative number of degrees by which the daily average temperature is less than 65°F). High emission scenario (RCP 8.5). NOTE: Please choose None or Reset before choosing another definition query."
  },
  {
   "name": "Heating Degree Days 1976-2005 Historical record",
   "description": "Heating Degree Days historical 1976-2005",
   "help": "Heating degree days (annual cumulative number of degrees by which the daily average temperature is less than 65°F). Historical record. NOTE: Please choose None or Reset before choosing another definition query."
  },
  {
   "name": "Annual number of days with a maximum temperature greater than 100F 2016-2045 High emission scenario (RCP 8.5)",
   "description": "Annual number of days with a maximum temperature greater than 100F RCP85 2016-2045",
   "help": "Annual number of days with a maximum temperature greater than 100F. High emission scenario (RCP 8.5). NOTE: Please choose None or Reset before choosing another definition query."
  },
  {
   "name": "Annual number of days with a maximum temperature greater than 100F 2036-2065 High emission scenario (RCP 8.5)",
   "description": "Annual number of days with a maximum temperature greater than 100F RCP85 2036-2065",
   "help": "Annual number of days with a maximum temperature greater than 100F. High emission scenario (RCP 8.5). NOTE: Please choose None or Reset before choosing another definition query."
  },
  {
   "name": "Annual number of days with a maximum temperature greater than 100F 2070-2099 High emission scenario (RCP 8.5)",
   "description": "Annual number of days with a maximum temperature greater than 100F RCP85 2070-2099",
   "help": "Annual number of days with a maximum temperature greater than 100F. High emission scenario (RCP 8.5). NOTE: Please choose None or Reset before choosing another definition query."
  },
  {
   "name": "Annual number of days with a maximum temperature greater than 100F 1976-2005 Historical record",
   "description": "Annual number of days with a maximum temperature greater than 100F historical 1976-2005",
   "help": "Annual number of days with a maximum temperature greater than 100F. Historical record. NOTE: Please choose None or Reset before choosing another definition query."
  },
  {
   "name": "Annual number of days with a maximum temperature greater than 105F 2016-2045 High emission scenario (RCP 8.5)",
   "description": "Annual number of days with a maximum temperature greater than 105F RCP85 2016-2045",
   "help": "Annual number of days with a maximum temperature greater than 105F. High emission scenario (RCP 8.5). NOTE: Please choose None or Reset before choosing another definition query."
  },
  {
   "name": "Annual number of days with a maximum temperature greater than 105F 2036-2065 High emission scenario (RCP 8.5)",
   "description": "Annual number of days with a maximum temperature greater than 105F RCP85 2036-2065",
   "help": "Annual number of days with a maximum temperature greater than 105F. High emission scenario (RCP 8.5). NOTE: Please choose None or Reset before choosing another definition query."
  },
  {
   "name": "Annual number of days with a maximum temperature greater than 105F 2070-2099 High emission scenario (RCP 8.5)",
   "description": "Annual number of days with a maximum temperature greater than 105F RCP85 2070-2099",
   "help": "Annual number of days with a maximum temperature greater than 105F. High emission scenario (RCP 8.5). NOTE: Please choose None or Reset before choosing another definition query."
  },
  {
   "name": "Annual number of days with a maximum temperature greater than 105F 1976-2005 Historical record",
   "description": "Annual number of days with a maximum temperature greater than 105F historical 1976-2005",
   "help": "Annual number of days with a maximum temperature greater than 105F. Historical record. NOTE: Please choose None or Reset before choosing another definition query."
  },
  {
   "name": "Daily maximum temperature 2016-2045 High emission scenario (RCP 8.5)",
   "description": "Daily maximum temperature RCP85 2016-2045",
   "help": "Daily maximum temperature (F). High emission scenario (RCP 8.5). NOTE: Please choose None or Reset before choosing another definition query."
  },
  {
   "name": "Daily maximum temperature 2036-2065 High emission scenario (RCP 8.5)",
   "description": "Daily maximum temperature RCP85 2036-2065",
   "help": "Daily maximum temperature (F). High emission scenario (RCP 8.5). NOTE: Please choose None or Reset before choosing another definition query."
  },
  {
   "name": "Daily maximum temperature 2070-2099 High emission scenario (RCP 8.5)",
   "description": "Daily maximum temperature RCP85 2070-2099",
   "help": "Daily maximum temperature (F). High emission scenario (RCP 8.5). NOTE: Please choose None or Reset before choosing another definition query."
  },
  {
   "name": "Daily maximum temperature 1976-2005 Historical record",
   "description": "Daily maximum temperature historical 1976-2005",
   "help": "Daily maximum temperature (F). Historical record. NOTE: Please choose None or Reset before choosing another definition query."
  },
  {
   "name": "Annual number of frost days 2016-2045 High emission scenario (RCP 8.5)",
   "description": "Annual number of frost days RCP85 2016-2045",
   "help": "Annual number of days with a minimum temperature less than 32F. High emission scenario (RCP 8.5). NOTE: Please choose None or Reset before choosing another definition query."
  },
  {
   "name": "Annual number of frost days 2036-2065 High emission scenario (RCP 8.5)",
   "description": "Annual number of frost days RCP85 2036-2065",
   "help": "Annual number of days with a minimum temperature less than 32F. High emission scenario (RCP 8.5). NOTE: Please choose None or Reset before choosing another definition query."
  },
  {
   "name": "Annual number of frost days 2070-2099 High emission scenario (RCP 8.5)",
   "description": "Annual number of frost days RCP85 2070-2099",
   "help": "Annual number of days with a minimum temperature less than 32F. High emission scenario (RCP 8.5). NOTE: Please choose None or Reset before choosing another definition query."
  },
  {
   "name": "Annual number of frost days 1976-2005 Historical record",
   "description": "Annual number of frost days historical 1976-2005",
   "help": "Annual number of days with a minimum temperature less than 32F. Historical record. NOTE: Please choose None or Reset before choosing another definition query."
  },
  {
   "name": "Annual number of days with a maximum temperature greater than 90F 2016-2045 High emission scenario (RCP 8.5)",
   "description": "Annual number of days with a maximum temperature greater than 90F RCP85 2016-2045",
   "help": "Annual number of days with a maximum temperature greater than 90F. High emission scenario (RCP 8.5). NOTE: Please choose None or Reset before choosing another definition query."
  },
  {
   "name": "Annual number of days with a maximum temperature greater than 90F 2036-2065 High emission scenario (RCP 8.5)",
   "description": "Annual number of days with a maximum temperature greater than 90F RCP85 2036-2065",
   "help": "Annual number of days with a maximum temperature greater than 90F. High emission scenario (RCP 8.5). NOTE: Please choose None or Reset before choosing another definition query."
  },
  {
   "name": "Annual number of days with a maximum temperature greater than 90F 2070-2099 High emission scenario (RCP 8.5)",
   "description": "Annual number of days with a maximum temperature greater than 90F RCP85 2070-2099",
   "help": "Annual number of days with a maximum temperature greater than 90F. High emission scenario (RCP 8.5). NOTE: Please choose None or Reset before choosing another definition query."
  },
  {
   "name": "Annual number of days with a maximum temperature greater than 90F 1976-2005 Historical record",
   "description": "Annual number of days with a maximum temperature greater than 90F historical 1976-2005",
   "help": "Annual number of days with a maximum temperature greater than 90F. Historical record. NOTE: Please choose None or Reset before choosing another definition query."
  },
  {
   "name": "Annual number of days with a maximum temperature greater than 95F 2016-2045 High emission scenario (RCP 8.5)",
   "description": "Annual number of days with a maximum temperature greater than 95F RCP85 2016-2045",
   "help": "Annual number of days with a maximum temperature greater than 95F. High emission scenario (RCP 8.5). NOTE: Please choose None or Reset before choosing another definition query."
  },
  {
   "name": "Annual number of days with a maximum temperature greater than 95F 2036-2065 High emission scenario (RCP 8.5)",
   "description": "Annual number of days with a maximum temperature greater than 95F RCP85 2036-2065",
   "help": "Annual number of days with a maximum temperature greater than 95F. High emission scenario (RCP 8.5). NOTE: Please choose None or Reset before choosing another definition query."
  },
  {
   "name": "Annual number of days with a maximum temperature greater than 95F 2070-2099 High emission scenario (RCP 8.5)",
   "description": "Annual number of days with a maximum temperature greater than 95F RCP85 2070-2099",
   "help": "Annual number of days with a maximum temperature greater than 95F. High emission scenario (RCP 8.5). NOTE: Please choose None or Reset before choosing another definition query."
  },
  {
   "name": "Annual number of days with a maximum temperature greater than 95F 1976-2005 Historical record",
   "description": "Annual number of days with a maximum temperature greater than 95F historical 1976-2005",
   "help": "Annual number of days with a maximum temperature greater than 95F. Historical record. NOTE: Please choose None or Reset before choosing another definition query."
  },
  {
   "name": "Daily minimum temperature 2016-2045 High emission scenario (RCP 8.5)",
   "description": "Daily minimum temperature RCP85 2016-2045",
   "help": "Daily minimum temperature (F). High emission scenario (RCP 8.5). NOTE: Please choose None or Reset before choosing another definition query."
  },
  {
   "name": "Daily minimum temperature 2036-2065 High emission scenario (RCP 8.5)",
   "description": "Daily minimum temperature RCP85 2036-2065",
   "help": "Daily minimum temperature (F). High emission scenario (RCP 8.5). NOTE: Please choose None or Reset before choosing another definition query."
  },
  {
   "name": "Daily minimum temperature 2070-2099 High emission scenario (RCP 8.5)",
   "description": "Daily minimum temperature RCP85 2070-2099",
   "help": "Daily minimum temperature (F). High emission scenario (RCP 8.5). NOTE: Please choose None or Reset before choosing another definition query."
  },
  {
   "name": "Daily minimum temperature 1976-2005 Historical record",
   "description": "Daily minimum temperature historical 1976-2005",
   "help": "Daily minimum temperature (F). Historical record. NOTE: Please choose None or Reset before choosing another definition query."
  },
  {
   "name": "Annual number of frost days 2016-2045 High emission scenario (RCP 8.5)",
   "description": "Annual number of frost days RCP85 2016-2045",
   "help": "Annual number of days with a minimum temperature less than 32F. High emission scenario (RCP 8.5). NOTE: Please choose None or Reset before choosing another definition query."
  },
  {
   "name": "Annual number of frost days 2036-2065 High emission scenario (RCP 8.5)",
   "description": "Annual number of frost days RCP85 2036-2065",
   "help": "Annual number of days with a minimum temperature less than 32F. High emission scenario (RCP 8.5). NOTE: Please choose None or Reset before choosing another definition query."
  },
  {
   "name": "Annual number of frost days 2070-2099 High emission scenario (RCP 8.5)",
   "description": "Annual number of frost days RCP85 2070-2099",
   "help": "Annual number of days with a minimum temperature less than 32F. High emission scenario (RCP 8.5). NOTE: Please choose None or Reset before choosing another definition query."
  },
  {
   "name": "Annual number of frost days 1976-2005 Historical record",
   "description": "Annual number of frost days historical 1976-2005",
   "help": "Annual number of days with a minimum temperature less than 32F. Historical record. NOTE: Please choose None or Reset before choosing another definition query."
  }
 ],
 "rasterTypeInfos": [
  {
   "name": "Raster Dataset",
   "description": "Supports all ArcGIS Raster Datasets",
   "help": ""
  }
 ],
 "mensurationCapabilities": "Basic",
 "hasHistograms": true,
 "hasColormap": false,
 "hasRasterAttributeTable": false,
 "minScale": 0,
 "maxScale": 0,
 "exportTilesAllowed": false,
 "hasMultidimensions": false,
 "supportsStatistics": true,
 "supportsAdvancedQueries": true,
 "editFieldsInfo": null,
 "ownershipBasedAccessControlForRasters": null,
 "allowComputeTiePoints": false,
 "useStandardizedQueries": true,
 "advancedQueryCapabilities": {
  "useStandardizedQueries": true,
  "supportsStatistics": true,
  "supportsOrderBy": true,
  "supportsDistinct": true,
  "supportsPagination": true
 },
 "spatialReference": {
  "wkid": 4326,
  "latestWkid": 4326
 }
}
