{
 "currentVersion": 10.91,
 "serviceDescription": "LOCA USA CONUS Climate Thresholds",
 "name": "LOCA_USA_CONUS_Climate_Thresholds",
 "description": "LOCA USA CONUS Climate Thresholds",
 "extent": {
  "xmin": -125.99999999999994,
  "ymin": 23.375000000000057,
  "xmax": -65.99999999999994,
  "ymax": 54.00000000000006,
  "spatialReference": {
   "wkid": 4326,
   "latestWkid": 4326
  }
 },
 "initialExtent": {
  "xmin": -125.99999999999994,
  "ymin": 23.375000000000057,
  "xmax": -65.99999999999994,
  "ymax": 54.00000000000006,
  "spatialReference": {
   "wkid": 4326,
   "latestWkid": 4326
  }
 },
 "fullExtent": {
  "xmin": -125.99999999999994,
  "ymin": 23.375000000000057,
  "xmax": -65.99999999999994,
  "ymax": 54.00000000000006,
  "spatialReference": {
   "wkid": 4326,
   "latestWkid": 4326
  }
 },
 "pixelSizeX": 0.0625,
 "pixelSizeY": 0.0625,
 "bandCount": 1,
 "pixelType": "F32",
 "minPixelSize": 0,
 "maxPixelSize": 0,
 "copyrightText": "",
 "serviceDataType": "esriImageServiceDataTypeScientific",
 "minValues": [
  0
 ],
 "maxValues": [
  239.64999389648438
 ],
 "meanValues": [
  33.50376721793418
 ],
 "stdvValues": [
  36.79019810816534
 ],
 "objectIdField": "OBJECTID",
 "fields": [
  {
   "name": "OBJECTID",
   "type": "esriFieldTypeOID",
   "alias": "OBJECTID",
   "domain": null
  },
  {
   "name": "Shape",
   "type": "esriFieldTypeGeometry",
   "alias": "Shape",
   "domain": null
  },
  {
   "name": "Name",
   "type": "esriFieldTypeString",
   "alias": "Name",
   "domain": null,
   "length": 200
  },
  {
   "name": "MinPS",
   "type": "esriFieldTypeDouble",
   "alias": "MinPS",
   "domain": null
  },
  {
   "name": "MaxPS",
   "type": "esriFieldTypeDouble",
   "alias": "MaxPS",
   "domain": null
  },
  {
   "name": "LowPS",
   "type": "esriFieldTypeDouble",
   "alias": "LowPS",
   "domain": null
  },
  {
   "name": "HighPS",
   "type": "esriFieldTypeDouble",
   "alias": "HighPS",
   "domain": null
  },
  {
   "name": "Category",
   "type": "esriFieldTypeInteger",
   "alias": "Category",
   "domain": {
    "type": "codedValue",
    "name": "MosaicCatalogItemCategoryDomain",
    "description": "Catalog item categories.",
    "codedValues": [
     {
      "name": "Unknown",
      "code": 0
     },
     {
      "name": "Primary",
      "code": 1
     },
     {
      "name": "Overview",
      "code": 2
     },
     {
      "name": "Unprocessed Overview",
      "code": 3
     },
     {
      "name": "Partial Overview",
      "code": 4
     },
     {
      "name": "Inactive",
      "code": 5
     },
     {
      "name": "Uploaded",
      "code": 253
     },
     {
      "name": "Incomplete",
      "code": 254
     },
     {
      "name": "Custom",
      "code": 255
     }
    ],
    "mergePolicy": "esriMPTDefaultValue",
    "splitPolicy": "esriSPTDefaultValue"
   }
  },
  {
   "name": "Tag",
   "type": "esriFieldTypeString",
   "alias": "Tag",
   "domain": null,
   "length": 100
  },
  {
   "name": "GroupName",
   "type": "esriFieldTypeString",
   "alias": "GroupName",
   "domain": null,
   "length": 100
  },
  {
   "name": "ProductName",
   "type": "esriFieldTypeString",
   "alias": "ProductName",
   "domain": null,
   "length": 100
  },
  {
   "name": "CenterX",
   "type": "esriFieldTypeDouble",
   "alias": "CenterX",
   "domain": null
  },
  {
   "name": "CenterY",
   "type": "esriFieldTypeDouble",
   "alias": "CenterY",
   "domain": null
  },
  {
   "name": "ZOrder",
   "type": "esriFieldTypeInteger",
   "alias": "ZOrder",
   "domain": null
  },
  {
   "name": "Shape_Length",
   "type": "esriFieldTypeDouble",
   "alias": "Shape_Length",
   "domain": null
  },
  {
   "name": "Shape_Area",
   "type": "esriFieldTypeDouble",
   "alias": "Shape_Area",
   "domain": null
  },
  {
   "name": "MeanDate",
   "type": "esriFieldTypeDate",
   "alias": "Mean Date of Projection",
   "domain": null,
   "length": 8
  },
  {
   "name": "Variable",
   "type": "esriFieldTypeString",
   "alias": "Variable Name",
   "domain": null,
   "length": 255
  },
  {
   "name": "StdTime",
   "type": "esriFieldTypeDate",
   "alias": "Standard Time",
   "domain": null,
   "length": 8
  },
  {
   "name": "Dimensions",
   "type": "esriFieldTypeString",
   "alias": "Dimensions",
   "domain": null,
   "length": 50
  }
 ],
 "capabilities": "Image,Metadata,Catalog,Mensuration",
 "defaultMosaicMethod": "ByAttribute",
 "allowedMosaicMethods": "ByAttribute,NorthWest,Center,LockRaster,Nadir,Viewpoint,Seamline,None",
 "sortField": "StdTime",
 "sortValue": "0",
 "sortAscending": false,
 "mosaicOperator": "First",
 "maxDownloadSizeLimit": 2048,
 "defaultCompressionQuality": 75,
 "defaultResamplingMethod": "Bilinear",
 "maxImageHeight": 15000,
 "maxImageWidth": 15000,
 "maxRecordCount": 1000,
 "maxDownloadImageCount": 20,
 "maxMosaicImageCount": 20,
 "allowRasterFunction": true,
 "rasterFunctionInfos": [
  {
   "name": "None",
   "description": "A No-Op Function.",
   "help": ""
  },
  {
   "name": "Cooling Degree Days 1976-2005 Historical record",
   "description": "Cooling Degree Days historical 1976-2005",
   "help": "Cooling degree days (annual cumulative number of degrees by which the daily average temperature is greater than 65°F). Historical record. NOTE: Please choose None or Reset before choosing another definition query."
  },
  {
   "name": "Cooling Degree Days 2016-2045 Low emission scenario (RCP 4.5)",
   "description": "Cooling Degree Days RCP45 2016-2045",
   "help": "Cooling degree days (annual cumulative number of degrees by which the daily average temperature is greater than 65°F). Low emission scenario (RCP 4.5). NOTE: Please choose None or Reset before choosing another definition query."
  },
  {
   "name": "Cooling Degree Days 2036-2065 Low emission scenario (RCP 4.5)",
   "description": "Cooling Degree Days RCP45 2036-2065",
   "help": "Cooling degree days (annual cumulative number of degrees by which the daily average temperature is greater than 65°F). Low emission scenario (RCP 4.5). NOTE: Please choose None or Reset before choosing another definition query."
  },
  {
   "name": "Cooling Degree Days 2070-2099 Low emission scenario (RCP 4.5)",
   "description": "Cooling Degree Days RCP45 2070-2099",
   "help": "Cooling degree days (annual cumulative number of degrees by which the daily average temperature is greater than 65°F). Low emission scenario (RCP 4.5). NOTE: Please choose None or Reset before choosing another definition query."
  },
  {
   "name": "Cooling Degree Days 2016-2045 High emission scenario (RCP 8.5)",
   "description": "Cooling Degree Days RCP85 2016-2045",
   "help": "Cooling degree days (annual cumulative number of degrees by which the daily average temperature is greater than 65°F). High emission scenario (RCP 8.5). NOTE: Please choose None or Reset before choosing another definition query."
  },
  {
   "name": "Cooling Degree Days 2036-2065 High emission scenario (RCP 8.5)",
   "description": "Cooling Degree Days RCP85 2036-2065",
   "help": "Cooling degree days (annual cumulative number of degrees by which the daily average temperature is greater than 65°F). High emission scenario (RCP 8.5). NOTE: Please choose None or Reset before choosing another definition query."
  },
  {
   "name": "Cooling Degree Days 2070-2099 High emission scenario (RCP 8.5)",
   "description": "Cooling Degree Days RCP85 2070-2099",
   "help": "Cooling degree days (annual cumulative number of degrees by which the daily average temperature is greater than 65°F). High emission scenario (RCP 8.5). NOTE: Please choose None or Reset before choosing another definition query."
  },
  {
   "name": "Consecutive Dry Days 1976-2005 Historical record",
   "description": "Consecutive Dry Days historical 1976-2005",
   "help": "Annual maximum number of consecutive dry days (days with total precipitation less than 0.01 inches). Historical record. NOTE: Please choose None or Reset before choosing another definition query."
  },
  {
   "name": "Consecutive Dry Days 2016-2045 Low emission scenario (RCP 4.5)",
   "description": "Consecutive Dry Days RCP45 2016-2045",
   "help": "Annual maximum number of consecutive dry days (days with total precipitation less than 0.01 inches). Low emission scenario (RCP 4.5). NOTE: Please choose None or Reset before choosing another definition query."
  },
  {
   "name": "Consecutive Dry Days 2036-2065 Low emission scenario (RCP 4.5)",
   "description": "Consecutive Dry Days RCP45 2036-2065",
   "help": "Annual maximum number of consecutive dry days (days with total precipitation less than 0.01 inches). Low emission scenario (RCP 4.5). NOTE: Please choose None or Reset before choosing another definition query."
  },
  {
   "name": "Consecutive Dry Days 2070-2099 Low emission scenario (RCP 4.5)",
   "description": "Consecutive Dry Days RCP45 2070-2099",
   "help": "Annual maximum number of consecutive dry days (days with total precipitation less than 0.01 inches). Low emission scenario (RCP 4.5). NOTE: Please choose None or Reset before choosing another definition query."
  },
  {
   "name": "Consecutive Dry Days 2016-2045 High emission scenario (RCP 8.5)",
   "description": "Consecutive Dry Days RCP85 2016-2045",
   "help": "Annual maximum number of consecutive dry days (days with total precipitation less than 0.01 inches). High emission scenario (RCP 8.5). NOTE: Please choose None or Reset before choosing another definition query."
  },
  {
   "name": "Consecutive Dry Days 2036-2065 High emission scenario (RCP 8.5)",
   "description": "Consecutive Dry Days RCP85 2036-2065",
   "help": "Annual maximum number of consecutive dry days (days with total precipitation less than 0.01 inches). High emission scenario (RCP 8.5). NOTE: Please choose None or Reset before choosing another definition query."
  },
  {
   "name": "Consecutive Dry Days 2070-2099 High emission scenario (RCP 8.5)",
   "description": "Consecutive Dry Days RCP85 2070-2099",
   "help": "Annual maximum number of consecutive dry days (days with total precipitation less than 0.01 inches). High emission scenario (RCP 8.5). NOTE: Please choose None or Reset before choosing another definition query."
  },
  {
   "name": "Consecutive Wet Days 1976-2005 Historical record",
   "description": "Consecutive Wet Days historical 1976-2005",
   "help": "Annual maximum number of consecutive wet days (days with total precipitation greater than or equal to 0.01 inches). Historical record. NOTE: Please choose None or Reset before choosing another definition query."
  },
  {
   "name": "Consecutive Wet Days 2016-2045 Low emission scenario (RCP 4.5)",
   "description": "Consecutive Wet Days RCP45 2016-2045",
   "help": "Annual maximum number of consecutive wet days (days with total precipitation greater than or equal to 0.01 inches). Low emission scenario (RCP 4.5). NOTE: Please choose None or Reset before choosing another definition query."
  },
  {
   "name": "Consecutive Wet Days 2036-2065 Low emission scenario (RCP 4.5)",
   "description": "Consecutive Wet Days RCP45 2036-2065",
   "help": "Annual maximum number of consecutive wet days (days with total precipitation greater than or equal to 0.01 inches). Low emission scenario (RCP 4.5). NOTE: Please choose None or Reset before choosing another definition query."
  },
  {
   "name": "Consecutive Wet Days 2070-2099 Low emission scenario (RCP 4.5)",
   "description": "Consecutive Wet Days RCP45 2070-2099",
   "help": "Annual maximum number of consecutive wet days (days with total precipitation greater than or equal to 0.01 inches). Low emission scenario (RCP 4.5). NOTE: Please choose None or Reset before choosing another definition query."
  },
  {
   "name": "Consecutive Wet Days 2016-2045 High emission scenario (RCP 8.5)",
   "description": "Consecutive Wet Days RCP85 2016-2045",
   "help": "Annual maximum number of consecutive wet days (days with total precipitation greater than or equal to 0.01 inches). High emission scenario (RCP 8.5). NOTE: Please choose None or Reset before choosing another definition query."
  },
  {
   "name": "Consecutive Wet Days 2036-2065 High emission scenario (RCP 8.5)",
   "description": "Consecutive Wet Days RCP85 2036-2065",
   "help": "Annual maximum number of consecutive wet days (days with total precipitation greater than or equal to 0.01 inches). High emission scenario (RCP 8.5). NOTE: Please choose None or Reset before choosing another definition query."
  },
  {
   "name": "Consecutive Wet Days 2070-2099 High emission scenario (RCP 8.5)",
   "description": "Consecutive Wet Days RCP85 2070-2099",
   "help": "Annual maximum number of consecutive wet days (days with total precipitation greater than or equal to 0.01 inches). High emission scenario (RCP 8.5). NOTE: Please choose None or Reset before choosing another definition query."
  },
  {
   "name": "Heating Degree Days 1976-2005 Historical record",
   "description": "Heating Degree Days historical 1976-2005",
   "help": "Heating degree days (annual cumulative number of degrees by which the daily average temperature is less than 65°F). Historical record. NOTE: Please choose None or Reset before choosing another definition query."
  },
  {
   "name": "Heating Degree Days 2016-2045 Low emission scenario (RCP 4.5)",
   "description": "Heating Degree Days RCP45 2016-2045",
   "help": "Heating degree days (annual cumulative number of degrees by which the daily average temperature is less than 65°F). Low emission scenario (RCP 4.5). NOTE: Please choose None or Reset before choosing another definition query."
  },
  {
   "name": "Heating Degree Days 2036-2065 Low emission scenario (RCP 4.5)",
   "description": "Heating Degree Days RCP45 2036-2065",
   "help": "Heating degree days (annual cumulative number of degrees by which the daily average temperature is less than 65°F). Low emission scenario (RCP 4.5). NOTE: Please choose None or Reset before choosing another definition query."
  },
  {
   "name": "Heating Degree Days 2070-2099 Low emission scenario (RCP 4.5)",
   "description": "Heating Degree Days RCP45 2070-2099",
   "help": "Heating degree days (annual cumulative number of degrees by which the daily average temperature is less than 65°F). Low emission scenario (RCP 4.5). NOTE: Please choose None or Reset before choosing another definition query."
  },
  {
   "name": "Heating Degree Days 2016-2045 High emission scenario (RCP 8.5)",
   "description": "Heating Degree Days RCP85 2016-2045",
   "help": "Heating degree days (annual cumulative number of degrees by which the daily average temperature is less than 65°F). High emission scenario (RCP 8.5). NOTE: Please choose None or Reset before choosing another definition query."
  },
  {
   "name": "Heating Degree Days 2036-2065 High emission scenario (RCP 8.5)",
   "description": "Heating Degree Days RCP85 2036-2065",
   "help": "Heating degree days (annual cumulative number of degrees by which the daily average temperature is less than 65°F). High emission scenario (RCP 8.5). NOTE: Please choose None or Reset before choosing another definition query."
  },
  {
   "name": "Heating Degree Days 2070-2099 High emission scenario (RCP 8.5)",
   "description": "Heating Degree Days RCP85 2070-2099",
   "help": "Heating degree days (annual cumulative number of degrees by which the daily average temperature is less than 65°F). High emission scenario (RCP 8.5). NOTE: Please choose None or Reset before choosing another definition query."
  },
  {
   "name": "Total Annual Precipitation 1976-2005 Historical record",
   "description": "Total Annual Precipitation historical 1976-2005",
   "help": "Annual total precipitation (inches). Historical record. NOTE: Please choose None or Reset before choosing another definition query."
  },
  {
   "name": "Total Annual Precipitation 2016-2045 Low emission scenario (RCP 4.5)",
   "description": "Total Annual Precipitation RCP45 2016-2045",
   "help": "Annual total precipitation (inches). Low emission scenario (RCP 4.5). NOTE: Please choose None or Reset before choosing another definition query."
  },
  {
   "name": "Total Annual Precipitation 2036-2065 Low emission scenario (RCP 4.5)",
   "description": "Total Annual Precipitation RCP45 2036-2065",
   "help": "Annual total precipitation (inches). Low emission scenario (RCP 4.5). NOTE: Please choose None or Reset before choosing another definition query."
  },
  {
   "name": "Total Annual Precipitation 2070-2099 Low emission scenario (RCP 4.5)",
   "description": "Total Annual Precipitation RCP45 2070-2099",
   "help": "Annual total precipitation (inches). Low emission scenario (RCP 4.5). NOTE: Please choose None or Reset before choosing another definition query."
  },
  {
   "name": "Total Annual Precipitation 2016-2045 High emission scenario (RCP 8.5)",
   "description": "Total Annual Precipitation RCP85 2016-2045",
   "help": "Annual total precipitation (inches). High emission scenario (RCP 8.5). NOTE: Please choose None or Reset before choosing another definition query."
  },
  {
   "name": "Total Annual Precipitation 2036-2065 High emission scenario (RCP 8.5)",
   "description": "Total Annual Precipitation RCP85 2036-2065",
   "help": "Annual total precipitation (inches). High emission scenario (RCP 8.5). NOTE: Please choose None or Reset before choosing another definition query."
  },
  {
   "name": "Total Annual Precipitation 2070-2099 High emission scenario (RCP 8.5)",
   "description": "Total Annual Precipitation RCP85 2070-2099",
   "help": "Annual total precipitation (inches). High emission scenario (RCP 8.5). NOTE: Please choose None or Reset before choosing another definition query."
  },
  {
   "name": "Annual Precipitation Days Greater than 1 inch 1976-2005 Historical record",
   "description": "Annual Precipitation Days Greater than 1 inch historical 1976-2005",
   "help": "Annual number of days with total precipitation greater than 1 inch. Historical record. NOTE: Please choose None or Reset before choosing another definition query."
  },
  {
   "name": "Annual Precipitation Days Greater than 1 inch 2016-2045 Low emission scenario (RCP 4.5)",
   "description": "Annual Precipitation Days Greater than 1 inch RCP45 2016-2045",
   "help": "Annual number of days with total precipitation greater than 1 inch. Low emission scenario (RCP 4.5). NOTE: Please choose None or Reset before choosing another definition query."
  },
  {
   "name": "Annual Precipitation Days Greater than 1 inch 2036-2065 Low emission scenario (RCP 4.5)",
   "description": "Annual Precipitation Days Greater than 1 inch RCP45 2036-2065",
   "help": "Annual number of days with total precipitation greater than 1 inch. Low emission scenario (RCP 4.5). NOTE: Please choose None or Reset before choosing another definition query."
  },
  {
   "name": "Annual Precipitation Days Greater than 1 inch 2070-2099 Low emission scenario (RCP 4.5)",
   "description": "Annual Precipitation Days Greater than 1 inch RCP45 2070-2099",
   "help": "Annual number of days with total precipitation greater than 1 inch. Low emission scenario (RCP 4.5). NOTE: Please choose None or Reset before choosing another definition query."
  },
  {
   "name": "Annual Precipitation Days Greater than 1 inch 2016-2045 High emission scenario (RCP 8.5)",
   "description": "Annual Precipitation Days Greater than 1 inch RCP85 2016-2045",
   "help": "Annual number of days with total precipitation greater than 1 inch. High emission scenario (RCP 8.5). NOTE: Please choose None or Reset before choosing another definition query."
  },
  {
   "name": "Annual Precipitation Days Greater than 1 inch 2036-2065 High emission scenario (RCP 8.5)",
   "description": "Annual Precipitation Days Greater than 1 inch RCP85 2036-2065",
   "help": "Annual number of days with total precipitation greater than 1 inch. High emission scenario (RCP 8.5). NOTE: Please choose None or Reset before choosing another definition query."
  },
  {
   "name": "Annual Precipitation Days Greater than 1 inch 2070-2099 High emission scenario (RCP 8.5)",
   "description": "Annual Precipitation Days Greater than 1 inch RCP85 2070-2099",
   "help": "Annual number of days with total precipitation greater than 1 inch. High emission scenario (RCP 8.5). NOTE: Please choose None or Reset before choosing another definition query."
  },
  {
   "name": "Annual Precipitation Days Greater than 2 inches 1976-2005 Historical record",
   "description": "Annual Precipitation Days Greater than 2 inches historical 1976-2005",
   "help": "Annual number of days with total precipitation greater than 2 inches. Historical record. NOTE: Please choose None or Reset before choosing another definition query."
  },
  {
   "name": "Annual Precipitation Days Greater than 2 inches 2016-2045 Low emission scenario (RCP 4.5)",
   "description": "Annual Precipitation Days Greater than 2 inches RCP45 2016-2045",
   "help": "Annual number of days with total precipitation greater than 2 inches. Low emission scenario (RCP 4.5). NOTE: Please choose None or Reset before choosing another definition query."
  },
  {
   "name": "Annual Precipitation Days Greater than 2 inches 2036-2065 Low emission scenario (RCP 4.5)",
   "description": "Annual Precipitation Days Greater than 2 inches RCP45 2036-2065",
   "help": "Annual number of days with total precipitation greater than 2 inches. Low emission scenario (RCP 4.5). NOTE: Please choose None or Reset before choosing another definition query."
  },
  {
   "name": "Annual Precipitation Days Greater than 2 inches 2070-2099 Low emission scenario (RCP 4.5)",
   "description": "Annual Precipitation Days Greater than 2 inches RCP45 2070-2099",
   "help": "Annual number of days with total precipitation greater than 2 inches. Low emission scenario (RCP 4.5). NOTE: Please choose None or Reset before choosing another definition query."
  },
  {
   "name": "Annual Precipitation Days Greater than 2 inches 2016-2045 High emission scenario (RCP 8.5)",
   "description": "Annual Precipitation Days Greater than 2 inches RCP85 2016-2045",
   "help": "Annual number of days with total precipitation greater than 2 inches. High emission scenario (RCP 8.5). NOTE: Please choose None or Reset before choosing another definition query."
  },
  {
   "name": "Annual Precipitation Days Greater than 2 inches 2036-2065 High emission scenario (RCP 8.5)",
   "description": "Annual Precipitation Days Greater than 2 inches RCP85 2036-2065",
   "help": "Annual number of days with total precipitation greater than 2 inches. High emission scenario (RCP 8.5). NOTE: Please choose None or Reset before choosing another definition query."
  },
  {
   "name": "Annual Precipitation Days Greater than 2 inches 2070-2099 High emission scenario (RCP 8.5)",
   "description": "Annual Precipitation Days Greater than 2 inches RCP85 2070-2099",
   "help": "Annual number of days with total precipitation greater than 2 inches. High emission scenario (RCP 8.5). NOTE: Please choose None or Reset before choosing another definition query."
  },
  {
   "name": "Annual Precipitation Days Greater than 3 inches 1976-2005 Historical record",
   "description": "Annual Precipitation Days Greater than 3 inches historical 1976-2005",
   "help": "Annual number of days with total precipitation greater than 3 inches. Historical record. NOTE: Please choose None or Reset before choosing another definition query."
  },
  {
   "name": "Annual Precipitation Days Greater than 3 inches 2016-2045 Low emission scenario (RCP 4.5)",
   "description": "Annual Precipitation Days Greater than 3 inches RCP45 2016-2045",
   "help": "Annual number of days with total precipitation greater than 3 inches. Low emission scenario (RCP 4.5). NOTE: Please choose None or Reset before choosing another definition query."
  },
  {
   "name": "Annual Precipitation Days Greater than 3 inches 2036-2065 Low emission scenario (RCP 4.5)",
   "description": "Annual Precipitation Days Greater than 3 inches RCP45 2036-2065",
