{
"currentVersion": 10.91,
"serviceDescription": "The Map of Biodiversity Importance (MoBI) identifies areas of high importance for species conservation in the contiguous United States. Building on habitat suitability models for 2,216 of the nation\u2019s most imperiled species, and information on range size and degree of protection derived from those models, the MoBI project provides a series of maps that can help inform conservation efforts. This map depicts richness of Critically Imperiled (categorized by NatureServe<\/a> as \u201cG1\u201d), Imperiled (\u201cG2\u201d), and ESA-listed (i.e., full species listed as Endangered or Threatened under the Endangered Species Act) species in the taxonomic group specified in the layer name. High values identify areas where more imperiled species are most likely to occur. Habitat models for most species were generated using the random forest algorithm with (1) NatureServe Network, USGS BISON<\/a>, and other sources of population and locality data and (2) environmental predictors representing terrain, climate, land cover, soils, and hydrology. The modeling resolution for terrestrial species was either 30 m (most species) or 330 m (some wide-ranging species). Models for aquatic species used the medium resolution National Hydrography Dataset (NHD)<\/a> as the modeling unit. For species not amenable to random forest modeling, habitat maps were derived by buffering locality data and/or building simple deductive models based on habitat information. NatureServe converted habitat maps to a 990-m raster to provide a consistent unit of aggregation and avoid revealing the precise location of sensitive species. Richness values are simply a tally of the number of species with habitat overlapping a cell. For more information on this service, including the terms of use, visit us online at: https://goto.arcgisonline.com/landscape12/Pollinators<\/a>",
"name": "USA_CONUS_imperiled_species_richness_PollinatorInverts",
"description": "The Map of Biodiversity Importance (MoBI) identifies areas of high importance for species conservation in the contiguous United States. Building on habitat suitability models for 2,216 of the nation\u2019s most imperiled species, and information on range size and degree of protection derived from those models, the MoBI project provides a series of maps that can help inform conservation efforts. This map depicts richness of Critically Imperiled (categorized by NatureServe<\/a> as \u201cG1\u201d), Imperiled (\u201cG2\u201d), and ESA-listed (i.e., full species listed as Endangered or Threatened under the Endangered Species Act) species in the taxonomic group specified in the layer name. High values identify areas where more imperiled species are most likely to occur. Habitat models for most species were generated using the random forest algorithm with (1) NatureServe Network, USGS BISON<\/a>, and other sources of population and locality data and (2) environmental predictors representing terrain, climate, land cover, soils, and hydrology. The modeling resolution for terrestrial species was either 30 m (most species) or 330 m (some wide-ranging species). Models for aquatic species used the medium resolution National Hydrography Dataset (NHD)<\/a> as the modeling unit. For species not amenable to random forest modeling, habitat maps were derived by buffering locality data and/or building simple deductive models based on habitat information. NatureServe converted habitat maps to a 990-m raster to provide a consistent unit of aggregation and avoid revealing the precise location of sensitive species. Richness values are simply a tally of the number of species with habitat overlapping a cell. For more information on this service, including the terms of use, visit us online at: https://goto.arcgisonline.com/landscape12/Pollinators<\/a>",
"extent": {
"xmin": -2493045,
"ymin": 177285,
"xmax": 2343105,
"ymax": 3310635,
"spatialReference": {"wkt": "PROJCS[\"Albers_Conic_Equal_Area\",GEOGCS[\"GCS_North_American_1983\",DATUM[\"D_North_American_1983\",SPHEROID[\"GRS_1980\",6378137.0,298.257222101]],PRIMEM[\"Greenwich\",0.0],UNIT[\"Degree\",0.0174532925199433]],PROJECTION[\"Albers\"],PARAMETER[\"false_easting\",0.0],PARAMETER[\"false_northing\",0.0],PARAMETER[\"central_meridian\",-96.0],PARAMETER[\"standard_parallel_1\",29.5],PARAMETER[\"standard_parallel_2\",45.5],PARAMETER[\"latitude_of_origin\",23.0],UNIT[\"Meter\",1.0]]"}
},
"initialExtent": {
"xmin": -2493045,
"ymin": 177285,
"xmax": 2343105,
"ymax": 3310635,
"spatialReference": {"wkt": "PROJCS[\"Albers_Conic_Equal_Area\",GEOGCS[\"GCS_North_American_1983\",DATUM[\"D_North_American_1983\",SPHEROID[\"GRS_1980\",6378137.0,298.257222101]],PRIMEM[\"Greenwich\",0.0],UNIT[\"Degree\",0.0174532925199433]],PROJECTION[\"Albers\"],PARAMETER[\"false_easting\",0.0],PARAMETER[\"false_northing\",0.0],PARAMETER[\"central_meridian\",-96.0],PARAMETER[\"standard_parallel_1\",29.5],PARAMETER[\"standard_parallel_2\",45.5],PARAMETER[\"latitude_of_origin\",23.0],UNIT[\"Meter\",1.0]]"}
},
"fullExtent": {
"xmin": -2493045,
"ymin": 177285,
"xmax": 2343105,
"ymax": 3310635,
"spatialReference": {"wkt": "PROJCS[\"Albers_Conic_Equal_Area\",GEOGCS[\"GCS_North_American_1983\",DATUM[\"D_North_American_1983\",SPHEROID[\"GRS_1980\",6378137.0,298.257222101]],PRIMEM[\"Greenwich\",0.0],UNIT[\"Degree\",0.0174532925199433]],PROJECTION[\"Albers\"],PARAMETER[\"false_easting\",0.0],PARAMETER[\"false_northing\",0.0],PARAMETER[\"central_meridian\",-96.0],PARAMETER[\"standard_parallel_1\",29.5],PARAMETER[\"standard_parallel_2\",45.5],PARAMETER[\"latitude_of_origin\",23.0],UNIT[\"Meter\",1.0]]"}
},
"pixelSizeX": 990,
"pixelSizeY": 990,
"bandCount": 1,
"pixelType": "S8",
"minPixelSize": 0,
"maxPixelSize": 0,
"copyrightText": "NatureServe Network 2020<\/a>",
"serviceDataType": "esriImageServiceDataTypeThematic",
"minValues": [
1
],
"maxValues": [
6
],
"meanValues": [
1.1354484996815355
],
"stdvValues": [
0.4703120412714568
],
"objectIdField": "OBJECTID",
"fields": [
{
"name": "OBJECTID",
"type": "esriFieldTypeOID",
"alias": "OBJECTID",
"domain": null
},
{
"name": "Shape",
"type": "esriFieldTypeGeometry",
"alias": "Shape",
"domain": null
},
{
"name": "Name",
"type": "esriFieldTypeString",
"alias": "Name",
"domain": null,
"length": 200
},
{
"name": "MinPS",
"type": "esriFieldTypeDouble",
"alias": "MinPS",
"domain": null
},
{
"name": "MaxPS",
"type": "esriFieldTypeDouble",
"alias": "MaxPS",
"domain": null
},
{
"name": "LowPS",
"type": "esriFieldTypeDouble",
"alias": "LowPS",
"domain": null
},
{
"name": "HighPS",
"type": "esriFieldTypeDouble",
"alias": "HighPS",
"domain": null
},
{
"name": "Category",
"type": "esriFieldTypeInteger",
"alias": "Category",
"domain": {
"type": "codedValue",
"name": "MosaicCatalogItemCategoryDomain",
"description": "Catalog item categories.",
"codedValues": [
{
"name": "Unknown",
"code": 0
},
{
"name": "Primary",
"code": 1
},
{
"name": "Overview",
"code": 2
},
{
"name": "Unprocessed Overview",
"code": 3
},
{
"name": "Partial Overview",
"code": 4
},
{
"name": "Inactive",
"code": 5
},
{
"name": "Uploaded",
"code": 253
},
{
"name": "Incomplete",
"code": 254
},
{
"name": "Custom",
"code": 255
}
],
"mergePolicy": "esriMPTDefaultValue",
"splitPolicy": "esriSPTDefaultValue"
}
},
{
"name": "Tag",
"type": "esriFieldTypeString",
"alias": "Tag",
"domain": null,
"length": 100
},
{
"name": "GroupName",
"type": "esriFieldTypeString",
"alias": "GroupName",
"domain": null,
"length": 100
},
{
"name": "ProductName",
"type": "esriFieldTypeString",
"alias": "ProductName",
"domain": null,
"length": 100
},
{
"name": "CenterX",
"type": "esriFieldTypeDouble",
"alias": "CenterX",
"domain": null
},
{
"name": "CenterY",
"type": "esriFieldTypeDouble",
"alias": "CenterY",
"domain": null
},
{
"name": "ZOrder",
"type": "esriFieldTypeInteger",
"alias": "ZOrder",
"domain": null
},
{
"name": "Shape_Length",
"type": "esriFieldTypeDouble",
"alias": "Shape_Length",
"domain": null
},
{
"name": "Shape_Area",
"type": "esriFieldTypeDouble",
"alias": "Shape_Area",
"domain": null
}
],
"capabilities": "Catalog,Image,Mensuration,Metadata,Pixels",
"defaultMosaicMethod": "None",
"allowedMosaicMethods": "None",
"mosaicOperator": "First",
"maxDownloadSizeLimit": 2048,
"defaultCompressionQuality": 75,
"defaultResamplingMethod": "Nearest",
"maxImageHeight": 4096,
"maxImageWidth": 4096,
"maxRecordCount": 1000,
"maxDownloadImageCount": 0,
"maxMosaicImageCount": 20,
"allowRasterFunction": true,
"rasterFunctionInfos": [
{
"name": "Species_Richnesss_Pollinators",
"description": "A raster function template.",
"help": ""
},
{
"name": "None",
"description": "",
"help": ""
}
],
"rasterTypeInfos": [
{
"name": "Raster Dataset",
"description": "Supports all ArcGIS Raster Datasets",
"help": ""
}
],
"mensurationCapabilities": "Basic",
"hasHistograms": true,
"hasColormap": true,
"hasRasterAttributeTable": false,
"minScale": 0,
"maxScale": 0,
"exportTilesAllowed": false,
"hasMultidimensions": false,
"supportsStatistics": true,
"supportsAdvancedQueries": true,
"editFieldsInfo": null,
"ownershipBasedAccessControlForRasters": null,
"allowComputeTiePoints": false,
"useStandardizedQueries": true,
"advancedQueryCapabilities": {
"useStandardizedQueries": true,
"supportsStatistics": true,
"supportsOrderBy": true,
"supportsDistinct": true,
"supportsPagination": true
},
"spatialReference": {"wkt": "PROJCS[\"Albers_Conic_Equal_Area\",GEOGCS[\"GCS_North_American_1983\",DATUM[\"D_North_American_1983\",SPHEROID[\"GRS_1980\",6378137.0,298.257222101]],PRIMEM[\"Greenwich\",0.0],UNIT[\"Degree\",0.0174532925199433]],PROJECTION[\"Albers\"],PARAMETER[\"false_easting\",0.0],PARAMETER[\"false_northing\",0.0],PARAMETER[\"central_meridian\",-96.0],PARAMETER[\"standard_parallel_1\",29.5],PARAMETER[\"standard_parallel_2\",45.5],PARAMETER[\"latitude_of_origin\",23.0],UNIT[\"Meter\",1.0]]"}
}