{
 "currentVersion": 10.91,
 "serviceDescription": "High-tide flooding, often referred to as \u201cking tides,\u201d \u201cnuisance,\u201d or \u201csunny day\u201d flooding, is becoming increasingly common due to years of sea level rise. High Tide Flooding (HTF) is defined as the overflow or excess accumulation of ocean water at high tide that covers low-lying areas, and typically occurs when tides reach anywhere from 1.75 to 2 feet above the daily average high tide and start spilling onto streets or bubbling up from storm drains. As sea level rise continues, damaging floods that happened decades ago only during a storm now happen more regularly, like during a full-moon or with a change in prevailing winds or currents.",
 "name": "US_Minor_High_Tide_Flooding",
 "description": "High-tide flooding, often referred to as \u201cking tides,\u201d \u201cnuisance,\u201d or \u201csunny day\u201d flooding, is becoming increasingly common due to years of sea level rise. High Tide Flooding (HTF) is defined as the overflow or excess accumulation of ocean water at high tide that covers low-lying areas, and typically occurs when tides reach anywhere from 1.75 to 2 feet above the daily average high tide and start spilling onto streets or bubbling up from storm drains. As sea level rise continues, damaging floods that happened decades ago only during a storm now happen more regularly, like during a full-moon or with a change in prevailing winds or currents.",
 "extent": {
  "xmin": -170.89864833,
  "ymin": -14.424560540000009,
  "xmax": 145.83294759000003,
  "ymax": 49.00336161,
  "spatialReference": {
   "wkid": 4326,
   "latestWkid": 4326
  }
 },
 "initialExtent": {
  "xmin": -170.89864833,
  "ymin": -14.424560540000009,
  "xmax": 145.83294759000003,
  "ymax": 49.00336161,
  "spatialReference": {
   "wkid": 4326,
   "latestWkid": 4326
  }
 },
 "fullExtent": {
  "xmin": -170.89864833,
  "ymin": -14.424560540000009,
  "xmax": 145.83294759000003,
  "ymax": 49.00336161,
  "spatialReference": {
   "wkid": 4326,
   "latestWkid": 4326
  }
 },
 "pixelSizeX": 2.694945850520727E-5,
 "pixelSizeY": 2.694945850760626E-5,
 "bandCount": 1,
 "pixelType": "U8",
 "minPixelSize": 0,
 "maxPixelSize": 0,
 "copyrightText": "NOAA",
 "serviceDataType": "esriImageServiceDataTypeGeneric",
 "minValues": [
  1
 ],
 "maxValues": [
  1
 ],
 "meanValues": [
  1
 ],
 "stdvValues": [
  0
 ],
 "objectIdField": "",
 "fields": [],
 "capabilities": "Image,Metadata,Mensuration",
 "defaultMosaicMethod": "Center",
 "allowedMosaicMethods": "",
 "sortField": "",
 "sortValue": null,
 "sortAscending": true,
 "mosaicOperator": "First",
 "defaultCompressionQuality": 75,
 "defaultResamplingMethod": "Bilinear",
 "maxImageHeight": 4100,
 "maxImageWidth": 15000,
 "allowRasterFunction": true,
 "rasterFunctionInfos": [
  {
   "name": "None",
   "description": "",
   "help": ""
  }
 ],
 "rasterTypeInfos": [
  {
   "name": "Raster Dataset",
   "description": "Supports all ArcGIS Raster Datasets",
   "help": ""
  }
 ],
 "mensurationCapabilities": "Basic",
 "hasHistograms": true,
 "hasColormap": false,
 "hasRasterAttributeTable": true,
 "minScale": 0,
 "maxScale": 0,
 "exportTilesAllowed": false,
 "hasMultidimensions": false,
 "supportsStatistics": false,
 "supportsAdvancedQueries": false,
 "editFieldsInfo": null,
 "ownershipBasedAccessControlForRasters": null,
 "allowComputeTiePoints": false,
 "useStandardizedQueries": true,
 "advancedQueryCapabilities": {
  "useStandardizedQueries": true,
  "supportsStatistics": false,
  "supportsOrderBy": false,
  "supportsDistinct": false,
  "supportsPagination": false
 },
 "spatialReference": {
  "wkid": 4326,
  "latestWkid": 4326
 }
}
