View In:
ArcGIS JavaScript
ArcGIS Online Map Viewer
ArcGIS Earth
ArcMap
View Footprint In:
ArcGIS Online Map Viewer
Service Description: The Map of Biodiversity Importance (MoBI) identifies areas of high importance for species conservation in the contiguous United States. Building on habitat suitability models for 2,216 of the nation’s most imperiled species, and information on range size and degree of protection derived from those models, the MoBI project provides a series of maps that can help inform conservation efforts. This map depicts summed range-size rarity for Critically Imperiled (categorized by
NatureServe as “G1”), Imperiled (“G2”), and ESA-listed (i.e., full species listed as Endangered or Threatened under the Endangered Species Act) species in the taxonomic group specified in the layer name. High values identify areas where species with restricted ranges (and thus fewer conservation opportunities) are likely to occur; the presence of multiple imperiled species contributes to higher scores. Habitat models for most species were generated using the random forest algorithm with (1) NatureServe Network,
USGS BISON, and other sources of population and locality data and (2) environmental predictors representing terrain, climate, land cover, soils, and hydrology. The modeling resolution for terrestrial species was either 30 m (most species) or 330 m (some wide-ranging species). Models for aquatic species used the medium resolution
National Hydrography Dataset (NHD) as the modeling unit. For species not amenable to random forest modeling, habitat maps were derived by buffering locality data and/or building simple deductive models based on habitat information. NatureServe converted habitat maps to a 990-m raster to provide a consistent unit of aggregation and avoid revealing the precise location of sensitive species. Range-size rarity for each species is the inverse of the total area mapped as habitat (using the 990-m raster). Summed range-size rarity is the sum of the range-size rarity values for all species with habitat that overlaps a cell. For more information on this service, including the terms of use, visit us online at:
https://goto.arcgisonline.com/landscape12/RSR_Pollinators
Name: USA_CONUS_imperiled_species_rangesize_rarity_PollinatorInverts
Description: The Map of Biodiversity Importance (MoBI) identifies areas of high importance for species conservation in the contiguous United States. Building on habitat suitability models for 2,216 of the nation’s most imperiled species, and information on range size and degree of protection derived from those models, the MoBI project provides a series of maps that can help inform conservation efforts. This map depicts summed range-size rarity for Critically Imperiled (categorized by
NatureServe as “G1”), Imperiled (“G2”), and ESA-listed (i.e., full species listed as Endangered or Threatened under the Endangered Species Act) species in the taxonomic group specified in the layer name. High values identify areas where species with restricted ranges (and thus fewer conservation opportunities) are likely to occur; the presence of multiple imperiled species contributes to higher scores. Habitat models for most species were generated using the random forest algorithm with (1) NatureServe Network,
USGS BISON, and other sources of population and locality data and (2) environmental predictors representing terrain, climate, land cover, soils, and hydrology. The modeling resolution for terrestrial species was either 30 m (most species) or 330 m (some wide-ranging species). Models for aquatic species used the medium resolution
National Hydrography Dataset (NHD) as the modeling unit. For species not amenable to random forest modeling, habitat maps were derived by buffering locality data and/or building simple deductive models based on habitat information. NatureServe converted habitat maps to a 990-m raster to provide a consistent unit of aggregation and avoid revealing the precise location of sensitive species. Range-size rarity for each species is the inverse of the total area mapped as habitat (using the 990-m raster). Summed range-size rarity is the sum of the range-size rarity values for all species with habitat that overlaps a cell. For more information on this service, including the terms of use, visit us online at:
https://goto.arcgisonline.com/landscape12/RSR_Pollinators
Single Fused Map Cache: false
Extent:
XMin: -2493045
YMin: 177285
XMax: 2343105
YMax: 3310635
Spatial Reference: PROJCS["Albers_Conic_Equal_Area",GEOGCS["GCS_North_American_1983",DATUM["D_North_American_1983",SPHEROID["GRS_1980",6378137.0,298.257222101]],PRIMEM["Greenwich",0.0],UNIT["Degree",0.0174532925199433]],PROJECTION["Albers"],PARAMETER["false_easting",0.0],PARAMETER["false_northing",0.0],PARAMETER["central_meridian",-96.0],PARAMETER["standard_parallel_1",29.5],PARAMETER["standard_parallel_2",45.5],PARAMETER["latitude_of_origin",23.0],UNIT["Meter",1.0]]
Initial Extent:
XMin: -2493045
YMin: 177285
XMax: 2343105
YMax: 3310635
Spatial Reference: PROJCS["Albers_Conic_Equal_Area",GEOGCS["GCS_North_American_1983",DATUM["D_North_American_1983",SPHEROID["GRS_1980",6378137.0,298.257222101]],PRIMEM["Greenwich",0.0],UNIT["Degree",0.0174532925199433]],PROJECTION["Albers"],PARAMETER["false_easting",0.0],PARAMETER["false_northing",0.0],PARAMETER["central_meridian",-96.0],PARAMETER["standard_parallel_1",29.5],PARAMETER["standard_parallel_2",45.5],PARAMETER["latitude_of_origin",23.0],UNIT["Meter",1.0]]
Full Extent:
XMin: -2493045
YMin: 177285
XMax: 2343105
YMax: 3310635
Spatial Reference: PROJCS["Albers_Conic_Equal_Area",GEOGCS["GCS_North_American_1983",DATUM["D_North_American_1983",SPHEROID["GRS_1980",6378137.0,298.257222101]],PRIMEM["Greenwich",0.0],UNIT["Degree",0.0174532925199433]],PROJECTION["Albers"],PARAMETER["false_easting",0.0],PARAMETER["false_northing",0.0],PARAMETER["central_meridian",-96.0],PARAMETER["standard_parallel_1",29.5],PARAMETER["standard_parallel_2",45.5],PARAMETER["latitude_of_origin",23.0],UNIT["Meter",1.0]]
Pixel Size X: 990.0
Pixel Size Y: 990.0
Band Count: 1
Pixel Type: F32
RasterFunction Infos: {"rasterFunctionInfos": [
{
"name": "RSR_Pollinators_Classified",
"description": "A raster function template.",
"help": ""
},
{
"name": "None",
"description": "",
"help": ""
}
]}
Mensuration Capabilities: Basic
Has Histograms: true
Has Colormap: false
Has Multi Dimensions : false
Rendering Rule:
Min Scale: 0
Max Scale: 0
Copyright Text: <a href="https://www.natureserve.org/natureserve-network">NatureServe Network 2020</a>
Service Data Type: esriImageServiceDataTypeGeneric
Min Values: 8.029138371057343E-6
Max Values: 0.2043999880552292
Mean Values: 6.36454601850509E-5
Standard Deviation Values: 9.380459584709431E-4
Object ID Field: OBJECTID
Fields:
-
OBJECTID
(
type: esriFieldTypeOID, alias: OBJECTID
)
-
Shape
(
type: esriFieldTypeGeometry, alias: Shape
)
-
Name
(
type: esriFieldTypeString, alias: Name, length: 200
)
-
MinPS
(
type: esriFieldTypeDouble, alias: MinPS
)
-
MaxPS
(
type: esriFieldTypeDouble, alias: MaxPS
)
-
LowPS
(
type: esriFieldTypeDouble, alias: LowPS
)
-
HighPS
(
type: esriFieldTypeDouble, alias: HighPS
)
-
Category
(
type: esriFieldTypeInteger, alias: Category
, Coded Values:
[0: Unknown]
, [1: Primary]
, [2: Overview]
, ...6 more...
)
-
Tag
(
type: esriFieldTypeString, alias: Tag, length: 100
)
-
GroupName
(
type: esriFieldTypeString, alias: GroupName, length: 100
)
-
ProductName
(
type: esriFieldTypeString, alias: ProductName, length: 100
)
-
CenterX
(
type: esriFieldTypeDouble, alias: CenterX
)
-
CenterY
(
type: esriFieldTypeDouble, alias: CenterY
)
-
ZOrder
(
type: esriFieldTypeInteger, alias: ZOrder
)
-
Shape_Length
(
type: esriFieldTypeDouble, alias: Shape_Length
)
-
Shape_Area
(
type: esriFieldTypeDouble, alias: Shape_Area
)
Default Mosaic Method: None
Allowed Mosaic Methods: None
SortField: N/A
SortValue: N/A
Mosaic Operator: First
Default Compression Quality: 75
Default Resampling Method: Nearest
Max Record Count: 1000
Max Image Height: 4096
Max Image Width: 4096
Max Download Image Count: 0
Max Mosaic Image Count: 20
Allow Raster Function: true
Allow Copy: null
Allow Analysis: null
Allow Compute TiePoints: false
Supports Statistics: true
Supports Advanced Queries: true
Use StandardizedQueries: true
Raster Type Infos:
Name: Raster Dataset
Description: Supports all ArcGIS Raster Datasets
Help:
Has Raster Attribute Table: false
Edit Fields Info: null
Ownership Based AccessControl For Rasters: null
Child Resources:
Info
Histograms
Key Properties
Legend
Raster Function Infos
Supported Operations:
Export Image
Query
Identify
Measure
Compute Histograms
Compute Statistics Histograms
Get Samples
Compute Class Statistics
Query Boundary
Compute Pixel Location
Compute Angles
Validate
Project