View In:
ArcGIS JavaScript
ArcGIS Online Map Viewer
ArcGIS Earth
ArcMap
View Footprint In:
ArcGIS Online Map Viewer
Service Description: LOCA_USA_Alaska_Climate_Thresholds
Name: LOCA_USA_Alaska_Climate_Thresholds
Description:
Single Fused Map Cache: false
Extent:
XMin: -179.99999999999997
YMin: 49.80443611521686
XMax: 179.97729862653298
YMax: 75.50831565500005
Spatial Reference: 4326
(4326)
Initial Extent:
XMin: -179.99999999999997
YMin: 49.80443611521686
XMax: 179.97729862653298
YMax: 75.50831565500005
Spatial Reference: 4326
(4326)
Full Extent:
XMin: -179.99999999999997
YMin: 49.80443611521686
XMax: 179.97729862653298
YMax: 75.50831565500005
Spatial Reference: 4326
(4326)
Pixel Size X: 0.12298506956834061
Pixel Size Y: 0.12298506956834061
Band Count: 1
Pixel Type: F64
RasterFunction Infos: {"rasterFunctionInfos": [
{
"name": "None",
"description": "A No-Op Function.",
"help": ""
},
{
"name": "Annual number of days with precipitation 2016-2045 High emission scenario (RCP 8.5)",
"description": "Annual number of days with precipitation RCP85 2016-2045",
"help": "Annual number of days with total precipitation greater than 0 inch. High emission scenario (RCP 8.5). NOTE: Please choose None or Reset before choosing another definition query."
},
{
"name": "Annual number of days with precipitation 2036-2065 High emission scenario (RCP 8.5)",
"description": "Annual number of days with precipitation RCP85 2036-2065",
"help": "Annual number of days with total precipitation greater than 0 inch. High emission scenario (RCP 8.5). NOTE: Please choose None or Reset before choosing another definition query."
},
{
"name": "Annual number of days with precipitation 2070-2099 High emission scenario (RCP 8.5)",
"description": "Annual number of days with precipitation RCP85 2070-2099",
"help": "Annual number of days with total precipitation greater than 0 inch. High emission scenario (RCP 8.5). NOTE: Please choose None or Reset before choosing another definition query."
},
{
"name": "Annual number of days with precipitation 1976-2005 Historical record",
"description": "Annual number of days with precipitation historical 1976-2005",
"help": "Annual number of days with total precipitation greater than 0 inch. Historical record. NOTE: Please choose None or Reset before choosing another definition query."
},
{
"name": "Annual total precipitation for all days exceeding the 99th percentile 2016-2045 High emission scenario (RCP 8.5)",
"description": "Annual total precipitation for all days exceeding the 99th percentile RCP85 2016-2045",
"help": "Annual total precipitation for all days exceeding the 99th percentile, calculated with reference to 1976-2005 (inches). High emission scenario (RCP 8.5). NOTE: Please choose None or Reset before choosing another definition query."
},
{
"name": "Annual total precipitation for all days exceeding the 99th percentile 2036-2065 High emission scenario (RCP 8.5)",
"description": "Annual total precipitation for all days exceeding the 99th percentile RCP85 2036-2065",
"help": "Annual total precipitation for all days exceeding the 99th percentile, calculated with reference to 1976-2005 (inches). High emission scenario (RCP 8.5). NOTE: Please choose None or Reset before choosing another definition query."
},
{
"name": "Annual total precipitation for all days exceeding the 99th percentile 2070-2099 High emission scenario (RCP 8.5)",
"description": "Annual total precipitation for all days exceeding the 99th percentile RCP85 2070-2099",
"help": "Annual total precipitation for all days exceeding the 99th percentile, calculated with reference to 1976-2005 (inches). High emission scenario (RCP 8.5). NOTE: Please choose None or Reset before choosing another definition query."
},
{
"name": "Annual total precipitation for all days exceeding the 99th percentile 1976-2005 Historical record",
"description": "Annual total precipitation for all days exceeding the 99th percentile historical 1976-2005",
"help": "Annual total precipitation for all days exceeding the 99th percentile, calculated with reference to 1976-2005 (inches). Historical record. NOTE: Please choose None or Reset before choosing another definition query."
},
{
"name": "Cooling Degree Days 2016-2045 High emission scenario (RCP 8.5)",
"description": "Cooling Degree Days RCP85 2016-2045",
"help": "Cooling degree days (annual cumulative number of degrees by which the daily average temperature is greater than 65°F). High emission scenario (RCP 8.5). NOTE: Please choose None or Reset before choosing another definition query."
},
{
"name": "Cooling Degree Days 2036-2065 High emission scenario (RCP 8.5)",
"description": "Cooling Degree Days RCP85 2036-2065",
"help": "Cooling degree days (annual cumulative number of degrees by which the daily average temperature is greater than 65°F). High emission scenario (RCP 8.5). NOTE: Please choose None or Reset before choosing another definition query."
},
{
"name": "Cooling Degree Days 2070-2099 High emission scenario (RCP 8.5)",
"description": "Cooling Degree Days RCP85 2070-2099",
"help": "Cooling degree days (annual cumulative number of degrees by which the daily average temperature is greater than 65°F). High emission scenario (RCP 8.5). NOTE: Please choose None or Reset before choosing another definition query."
},
{
"name": "Cooling Degree Days 1976-2005 Historical record",
"description": "Cooling Degree Days historical 1976-2005",
"help": "Cooling degree days (annual cumulative number of degrees by which the daily average temperature is greater than 65°F). Historical record. NOTE: Please choose None or Reset before choosing another definition query."
},
{
"name": "Heating Degree Days 2016-2045 High emission scenario (RCP 8.5)",
"description": "Heating Degree Days RCP85 2016-2045",
"help": "Heating degree days (annual cumulative number of degrees by which the daily average temperature is less than 65°F). High emission scenario (RCP 8.5). NOTE: Please choose None or Reset before choosing another definition query."
},
{
"name": "Heating Degree Days 2036-2065 High emission scenario (RCP 8.5)",
"description": "Heating Degree Days RCP85 2036-2065",
"help": "Heating degree days (annual cumulative number of degrees by which the daily average temperature is less than 65°F). High emission scenario (RCP 8.5). NOTE: Please choose None or Reset before choosing another definition query."
},
{
"name": "Heating Degree Days 2070-2099 High emission scenario (RCP 8.5)",
"description": "Heating Degree Days RCP85 2070-2099",
"help": "Heating degree days (annual cumulative number of degrees by which the daily average temperature is less than 65°F). High emission scenario (RCP 8.5). NOTE: Please choose None or Reset before choosing another definition query."
},
{
"name": "Heating Degree Days 1976-2005 Historical record",
"description": "Heating Degree Days historical 1976-2005",
"help": "Heating degree days (annual cumulative number of degrees by which the daily average temperature is less than 65°F). Historical record. NOTE: Please choose None or Reset before choosing another definition query."
},
{
"name": "Annual number of days with a maximum temperature greater than 100F 2016-2045 High emission scenario (RCP 8.5)",
"description": "Annual number of days with a maximum temperature greater than 100F RCP85 2016-2045",
"help": "Annual number of days with a maximum temperature greater than 100F. High emission scenario (RCP 8.5). NOTE: Please choose None or Reset before choosing another definition query."
},
{
"name": "Annual number of days with a maximum temperature greater than 100F 2036-2065 High emission scenario (RCP 8.5)",
"description": "Annual number of days with a maximum temperature greater than 100F RCP85 2036-2065",
"help": "Annual number of days with a maximum temperature greater than 100F. High emission scenario (RCP 8.5). NOTE: Please choose None or Reset before choosing another definition query."
},
{
"name": "Annual number of days with a maximum temperature greater than 100F 2070-2099 High emission scenario (RCP 8.5)",
"description": "Annual number of days with a maximum temperature greater than 100F RCP85 2070-2099",
"help": "Annual number of days with a maximum temperature greater than 100F. High emission scenario (RCP 8.5). NOTE: Please choose None or Reset before choosing another definition query."
},
{
"name": "Annual number of days with a maximum temperature greater than 100F 1976-2005 Historical record",
"description": "Annual number of days with a maximum temperature greater than 100F historical 1976-2005",
"help": "Annual number of days with a maximum temperature greater than 100F. Historical record. NOTE: Please choose None or Reset before choosing another definition query."
},
{
"name": "Annual number of days with a maximum temperature greater than 105F 2016-2045 High emission scenario (RCP 8.5)",
"description": "Annual number of days with a maximum temperature greater than 105F RCP85 2016-2045",
"help": "Annual number of days with a maximum temperature greater than 105F. High emission scenario (RCP 8.5). NOTE: Please choose None or Reset before choosing another definition query."
},
{
"name": "Annual number of days with a maximum temperature greater than 105F 2036-2065 High emission scenario (RCP 8.5)",
"description": "Annual number of days with a maximum temperature greater than 105F RCP85 2036-2065",
"help": "Annual number of days with a maximum temperature greater than 105F. High emission scenario (RCP 8.5). NOTE: Please choose None or Reset before choosing another definition query."
},
{
"name": "Annual number of days with a maximum temperature greater than 105F 2070-2099 High emission scenario (RCP 8.5)",
"description": "Annual number of days with a maximum temperature greater than 105F RCP85 2070-2099",
"help": "Annual number of days with a maximum temperature greater than 105F. High emission scenario (RCP 8.5). NOTE: Please choose None or Reset before choosing another definition query."
},
{
"name": "Annual number of days with a maximum temperature greater than 105F 1976-2005 Historical record",
"description": "Annual number of days with a maximum temperature greater than 105F historical 1976-2005",
"help": "Annual number of days with a maximum temperature greater than 105F. Historical record. NOTE: Please choose None or Reset before choosing another definition query."
},
{
"name": "Daily maximum temperature 2016-2045 High emission scenario (RCP 8.5)",
"description": "Daily maximum temperature RCP85 2016-2045",
"help": "Daily maximum temperature (F). High emission scenario (RCP 8.5). NOTE: Please choose None or Reset before choosing another definition query."
},
{
"name": "Daily maximum temperature 2036-2065 High emission scenario (RCP 8.5)",
"description": "Daily maximum temperature RCP85 2036-2065",
"help": "Daily maximum temperature (F). High emission scenario (RCP 8.5). NOTE: Please choose None or Reset before choosing another definition query."
},
{
"name": "Daily maximum temperature 2070-2099 High emission scenario (RCP 8.5)",
"description": "Daily maximum temperature RCP85 2070-2099",
"help": "Daily maximum temperature (F). High emission scenario (RCP 8.5). NOTE: Please choose None or Reset before choosing another definition query."
},
{
"name": "Daily maximum temperature 1976-2005 Historical record",
"description": "Daily maximum temperature historical 1976-2005",
"help": "Daily maximum temperature (F). Historical record. NOTE: Please choose None or Reset before choosing another definition query."
},
{
"name": "Annual number of frost days 2016-2045 High emission scenario (RCP 8.5)",
"description": "Annual number of frost days RCP85 2016-2045",
"help": "Annual number of days with a minimum temperature less than 32F. High emission scenario (RCP 8.5). NOTE: Please choose None or Reset before choosing another definition query."
},
{
"name": "Annual number of frost days 2036-2065 High emission scenario (RCP 8.5)",
"description": "Annual number of frost days RCP85 2036-2065",
"help": "Annual number of days with a minimum temperature less than 32F. High emission scenario (RCP 8.5). NOTE: Please choose None or Reset before choosing another definition query."
},
{
"name": "Annual number of frost days 2070-2099 High emission scenario (RCP 8.5)",
"description": "Annual number of frost days RCP85 2070-2099",
"help": "Annual number of days with a minimum temperature less than 32F. High emission scenario (RCP 8.5). NOTE: Please choose None or Reset before choosing another definition query."
},
{
"name": "Annual number of frost days 1976-2005 Historical record",
"description": "Annual number of frost days historical 1976-2005",
"help": "Annual number of days with a minimum temperature less than 32F. Historical record. NOTE: Please choose None or Reset before choosing another definition query."
},
{
"name": "Annual number of days with a maximum temperature greater than 90F 2016-2045 High emission scenario (RCP 8.5)",
"description": "Annual number of days with a maximum temperature greater than 90F RCP85 2016-2045",
"help": "Annual number of days with a maximum temperature greater than 90F. High emission scenario (RCP 8.5). NOTE: Please choose None or Reset before choosing another definition query."
},
{
"name": "Annual number of days with a maximum temperature greater than 90F 2036-2065 High emission scenario (RCP 8.5)",
"description": "Annual number of days with a maximum temperature greater than 90F RCP85 2036-2065",
"help": "Annual number of days with a maximum temperature greater than 90F. High emission scenario (RCP 8.5). NOTE: Please choose None or Reset before choosing another definition query."
},
{
"name": "Annual number of days with a maximum temperature greater than 90F 2070-2099 High emission scenario (RCP 8.5)",
"description": "Annual number of days with a maximum temperature greater than 90F RCP85 2070-2099",
"help": "Annual number of days with a maximum temperature greater than 90F. High emission scenario (RCP 8.5). NOTE: Please choose None or Reset before choosing another definition query."
},
{
"name": "Annual number of days with a maximum temperature greater than 90F 1976-2005 Historical record",
"description": "Annual number of days with a maximum temperature greater than 90F historical 1976-2005",
"help": "Annual number of days with a maximum temperature greater than 90F. Historical record. NOTE: Please choose None or Reset before choosing another definition query."
},
{
"name": "Annual number of days with a maximum temperature greater than 95F 2016-2045 High emission scenario (RCP 8.5)",
"description": "Annual number of days with a maximum temperature greater than 95F RCP85 2016-2045",
"help": "Annual number of days with a maximum temperature greater than 95F. High emission scenario (RCP 8.5). NOTE: Please choose None or Reset before choosing another definition query."
},
{
"name": "Annual number of days with a maximum temperature greater than 95F 2036-2065 High emission scenario (RCP 8.5)",
"description": "Annual number of days with a maximum temperature greater than 95F RCP85 2036-2065",
"help": "Annual number of days with a maximum temperature greater than 95F. High emission scenario (RCP 8.5). NOTE: Please choose None or Reset before choosing another definition query."
},
{
"name": "Annual number of days with a maximum temperature greater than 95F 2070-2099 High emission scenario (RCP 8.5)",
"description": "Annual number of days with a maximum temperature greater than 95F RCP85 2070-2099",
"help": "Annual number of days with a maximum temperature greater than 95F. High emission scenario (RCP 8.5). NOTE: Please choose None or Reset before choosing another definition query."
},
{
"name": "Annual number of days with a maximum temperature greater than 95F 1976-2005 Historical record",
"description": "Annual number of days with a maximum temperature greater than 95F historical 1976-2005",
"help": "Annual number of days with a maximum temperature greater than 95F. Historical record. NOTE: Please choose None or Reset before choosing another definition query."
},
{
"name": "Daily minimum temperature 2016-2045 High emission scenario (RCP 8.5)",
"description": "Daily minimum temperature RCP85 2016-2045",
"help": "Daily minimum temperature (F). High emission scenario (RCP 8.5). NOTE: Please choose None or Reset before choosing another definition query."
},
{
"name": "Daily minimum temperature 2036-2065 High emission scenario (RCP 8.5)",
"description": "Daily minimum temperature RCP85 2036-2065",
"help": "Daily minimum temperature (F). High emission scenario (RCP 8.5). NOTE: Please choose None or Reset before choosing another definition query."
},
{
"name": "Daily minimum temperature 2070-2099 High emission scenario (RCP 8.5)",
"description": "Daily minimum temperature RCP85 2070-2099",
"help": "Daily minimum temperature (F). High emission scenario (RCP 8.5). NOTE: Please choose None or Reset before choosing another definition query."
},
{
"name": "Daily minimum temperature 1976-2005 Historical record",
"description": "Daily minimum temperature historical 1976-2005",
"help": "Daily minimum temperature (F). Historical record. NOTE: Please choose None or Reset before choosing another definition query."
},
{
"name": "Annual number of frost days 2016-2045 High emission scenario (RCP 8.5)",
"description": "Annual number of frost days RCP85 2016-2045",
"help": "Annual number of days with a minimum temperature less than 32F. High emission scenario (RCP 8.5). NOTE: Please choose None or Reset before choosing another definition query."
},
{
"name": "Annual number of frost days 2036-2065 High emission scenario (RCP 8.5)",
"description": "Annual number of frost days RCP85 2036-2065",
"help": "Annual number of days with a minimum temperature less than 32F. High emission scenario (RCP 8.5). NOTE: Please choose None or Reset before choosing another definition query."
},
{
"name": "Annual number of frost days 2070-2099 High emission scenario (RCP 8.5)",
"description": "Annual number of frost days RCP85 2070-2099",
"help": "Annual number of days with a minimum temperature less than 32F. High emission scenario (RCP 8.5). NOTE: Please choose None or Reset before choosing another definition query."
},
{
"name": "Annual number of frost days 1976-2005 Historical record",
"description": "Annual number of frost days historical 1976-2005",
"help": "Annual number of days with a minimum temperature less than 32F. Historical record. NOTE: Please choose None or Reset before choosing another definition query."
}
]}
Mensuration Capabilities: Basic
Has Histograms: true
Has Colormap: false
Has Multi Dimensions : false
Rendering Rule:
Min Scale: 0
Max Scale: 0
Copyright Text:
Service Data Type: esriImageServiceDataTypeScientific
Min Values: 0
Max Values: 0.7700000000000001
Mean Values: 0.06515238456886502
Standard Deviation Values: 0.09443917843529269
Object ID Field: OBJECTID
Fields:
-
OBJECTID
(
type: esriFieldTypeOID, alias: OBJECTID
)
-
Shape
(
type: esriFieldTypeGeometry, alias: Shape
)
-
Name
(
type: esriFieldTypeString, alias: Name, length: 200
)
-
MinPS
(
type: esriFieldTypeDouble, alias: MinPS
)
-
MaxPS
(
type: esriFieldTypeDouble, alias: MaxPS
)
-
LowPS
(
type: esriFieldTypeDouble, alias: LowPS
)
-
HighPS
(
type: esriFieldTypeDouble, alias: HighPS
)
-
Category
(
type: esriFieldTypeInteger, alias: Category
, Coded Values:
[0: Unknown]
, [1: Primary]
, [2: Overview]
, ...6 more...
)
-
Tag
(
type: esriFieldTypeString, alias: Tag, length: 100
)
-
GroupName
(
type: esriFieldTypeString, alias: GroupName, length: 100
)
-
ProductName
(
type: esriFieldTypeString, alias: ProductName, length: 100
)
-
CenterX
(
type: esriFieldTypeDouble, alias: CenterX
)
-
CenterY
(
type: esriFieldTypeDouble, alias: CenterY
)
-
ZOrder
(
type: esriFieldTypeInteger, alias: ZOrder
)
-
Shape_Length
(
type: esriFieldTypeDouble, alias: Shape_Length
)
-
Shape_Area
(
type: esriFieldTypeDouble, alias: Shape_Area
)
Default Mosaic Method: ByAttribute
Allowed Mosaic Methods: ByAttribute,NorthWest,Center,LockRaster,Nadir,Viewpoint,Seamline,None
SortField: MinPS
SortValue: 0
Mosaic Operator: First
Default Compression Quality: 75
Default Resampling Method: Bilinear
Max Record Count: 1000
Max Image Height: 30000
Max Image Width: 30000
Max Download Image Count: 20
Max Mosaic Image Count: 20
Allow Raster Function: true
Allow Copy: null
Allow Analysis: null
Allow Compute TiePoints: false
Supports Statistics: true
Supports Advanced Queries: true
Use StandardizedQueries: true
Raster Type Infos:
Name: Raster Dataset
Description: Supports all ArcGIS Raster Datasets
Help:
Has Raster Attribute Table: false
Edit Fields Info: null
Ownership Based AccessControl For Rasters: null
Child Resources:
Info
Histograms
Key Properties
Legend
Raster Function Infos
Supported Operations:
Export Image
Query
Identify
Measure
Compute Histograms
Compute Statistics Histograms
Get Samples
Compute Class Statistics
Query Boundary
Compute Pixel Location
Compute Angles
Validate
Project