View In:
ArcGIS JavaScript
ArcGIS Online Map Viewer
ArcGIS Earth
ArcMap
View Footprint In:
ArcGIS Online Map Viewer
Service Description: LOCA USA CONUS Climate Thresholds
Name: LOCA_USA_CONUS_Climate_Thresholds
Description: LOCA USA CONUS Climate Thresholds
Single Fused Map Cache: false
Extent:
XMin: -125.99999999999994
YMin: 23.375000000000057
XMax: -65.99999999999994
YMax: 54.00000000000006
Spatial Reference: 4326
(4326)
Initial Extent:
XMin: -125.99999999999994
YMin: 23.375000000000057
XMax: -65.99999999999994
YMax: 54.00000000000006
Spatial Reference: 4326
(4326)
Full Extent:
XMin: -125.99999999999994
YMin: 23.375000000000057
XMax: -65.99999999999994
YMax: 54.00000000000006
Spatial Reference: 4326
(4326)
Pixel Size X: 0.0625
Pixel Size Y: 0.0625
Band Count: 1
Pixel Type: F32
RasterFunction Infos: {"rasterFunctionInfos": [
{
"name": "None",
"description": "A No-Op Function.",
"help": ""
},
{
"name": "Cooling Degree Days 1976-2005 Historical record",
"description": "Cooling Degree Days historical 1976-2005",
"help": "Cooling degree days (annual cumulative number of degrees by which the daily average temperature is greater than 65°F). Historical record. NOTE: Please choose None or Reset before choosing another definition query."
},
{
"name": "Cooling Degree Days 2016-2045 Low emission scenario (RCP 4.5)",
"description": "Cooling Degree Days RCP45 2016-2045",
"help": "Cooling degree days (annual cumulative number of degrees by which the daily average temperature is greater than 65°F). Low emission scenario (RCP 4.5). NOTE: Please choose None or Reset before choosing another definition query."
},
{
"name": "Cooling Degree Days 2036-2065 Low emission scenario (RCP 4.5)",
"description": "Cooling Degree Days RCP45 2036-2065",
"help": "Cooling degree days (annual cumulative number of degrees by which the daily average temperature is greater than 65°F). Low emission scenario (RCP 4.5). NOTE: Please choose None or Reset before choosing another definition query."
},
{
"name": "Cooling Degree Days 2070-2099 Low emission scenario (RCP 4.5)",
"description": "Cooling Degree Days RCP45 2070-2099",
"help": "Cooling degree days (annual cumulative number of degrees by which the daily average temperature is greater than 65°F). Low emission scenario (RCP 4.5). NOTE: Please choose None or Reset before choosing another definition query."
},
{
"name": "Cooling Degree Days 2016-2045 High emission scenario (RCP 8.5)",
"description": "Cooling Degree Days RCP85 2016-2045",
"help": "Cooling degree days (annual cumulative number of degrees by which the daily average temperature is greater than 65°F). High emission scenario (RCP 8.5). NOTE: Please choose None or Reset before choosing another definition query."
},
{
"name": "Cooling Degree Days 2036-2065 High emission scenario (RCP 8.5)",
"description": "Cooling Degree Days RCP85 2036-2065",
"help": "Cooling degree days (annual cumulative number of degrees by which the daily average temperature is greater than 65°F). High emission scenario (RCP 8.5). NOTE: Please choose None or Reset before choosing another definition query."
},
{
"name": "Cooling Degree Days 2070-2099 High emission scenario (RCP 8.5)",
"description": "Cooling Degree Days RCP85 2070-2099",
"help": "Cooling degree days (annual cumulative number of degrees by which the daily average temperature is greater than 65°F). High emission scenario (RCP 8.5). NOTE: Please choose None or Reset before choosing another definition query."
},
{
"name": "Consecutive Dry Days 1976-2005 Historical record",
"description": "Consecutive Dry Days historical 1976-2005",
"help": "Annual maximum number of consecutive dry days (days with total precipitation less than 0.01 inches). Historical record. NOTE: Please choose None or Reset before choosing another definition query."
},
{
"name": "Consecutive Dry Days 2016-2045 Low emission scenario (RCP 4.5)",
"description": "Consecutive Dry Days RCP45 2016-2045",
"help": "Annual maximum number of consecutive dry days (days with total precipitation less than 0.01 inches). Low emission scenario (RCP 4.5). NOTE: Please choose None or Reset before choosing another definition query."
},
{
"name": "Consecutive Dry Days 2036-2065 Low emission scenario (RCP 4.5)",
"description": "Consecutive Dry Days RCP45 2036-2065",
"help": "Annual maximum number of consecutive dry days (days with total precipitation less than 0.01 inches). Low emission scenario (RCP 4.5). NOTE: Please choose None or Reset before choosing another definition query."
},
{
"name": "Consecutive Dry Days 2070-2099 Low emission scenario (RCP 4.5)",
"description": "Consecutive Dry Days RCP45 2070-2099",
"help": "Annual maximum number of consecutive dry days (days with total precipitation less than 0.01 inches). Low emission scenario (RCP 4.5). NOTE: Please choose None or Reset before choosing another definition query."
},
{
"name": "Consecutive Dry Days 2016-2045 High emission scenario (RCP 8.5)",
"description": "Consecutive Dry Days RCP85 2016-2045",
"help": "Annual maximum number of consecutive dry days (days with total precipitation less than 0.01 inches). High emission scenario (RCP 8.5). NOTE: Please choose None or Reset before choosing another definition query."
},
{
"name": "Consecutive Dry Days 2036-2065 High emission scenario (RCP 8.5)",
"description": "Consecutive Dry Days RCP85 2036-2065",
"help": "Annual maximum number of consecutive dry days (days with total precipitation less than 0.01 inches). High emission scenario (RCP 8.5). NOTE: Please choose None or Reset before choosing another definition query."
},
{
"name": "Consecutive Dry Days 2070-2099 High emission scenario (RCP 8.5)",
"description": "Consecutive Dry Days RCP85 2070-2099",
"help": "Annual maximum number of consecutive dry days (days with total precipitation less than 0.01 inches). High emission scenario (RCP 8.5). NOTE: Please choose None or Reset before choosing another definition query."
},
{
"name": "Consecutive Wet Days 1976-2005 Historical record",
"description": "Consecutive Wet Days historical 1976-2005",
"help": "Annual maximum number of consecutive wet days (days with total precipitation greater than or equal to 0.01 inches). Historical record. NOTE: Please choose None or Reset before choosing another definition query."
},
{
"name": "Consecutive Wet Days 2016-2045 Low emission scenario (RCP 4.5)",
"description": "Consecutive Wet Days RCP45 2016-2045",
"help": "Annual maximum number of consecutive wet days (days with total precipitation greater than or equal to 0.01 inches). Low emission scenario (RCP 4.5). NOTE: Please choose None or Reset before choosing another definition query."
},
{
"name": "Consecutive Wet Days 2036-2065 Low emission scenario (RCP 4.5)",
"description": "Consecutive Wet Days RCP45 2036-2065",
"help": "Annual maximum number of consecutive wet days (days with total precipitation greater than or equal to 0.01 inches). Low emission scenario (RCP 4.5). NOTE: Please choose None or Reset before choosing another definition query."
},
{
"name": "Consecutive Wet Days 2070-2099 Low emission scenario (RCP 4.5)",
"description": "Consecutive Wet Days RCP45 2070-2099",
"help": "Annual maximum number of consecutive wet days (days with total precipitation greater than or equal to 0.01 inches). Low emission scenario (RCP 4.5). NOTE: Please choose None or Reset before choosing another definition query."
},
{
"name": "Consecutive Wet Days 2016-2045 High emission scenario (RCP 8.5)",
"description": "Consecutive Wet Days RCP85 2016-2045",
"help": "Annual maximum number of consecutive wet days (days with total precipitation greater than or equal to 0.01 inches). High emission scenario (RCP 8.5). NOTE: Please choose None or Reset before choosing another definition query."
},
{
"name": "Consecutive Wet Days 2036-2065 High emission scenario (RCP 8.5)",
"description": "Consecutive Wet Days RCP85 2036-2065",
"help": "Annual maximum number of consecutive wet days (days with total precipitation greater than or equal to 0.01 inches). High emission scenario (RCP 8.5). NOTE: Please choose None or Reset before choosing another definition query."
},
{
"name": "Consecutive Wet Days 2070-2099 High emission scenario (RCP 8.5)",
"description": "Consecutive Wet Days RCP85 2070-2099",
"help": "Annual maximum number of consecutive wet days (days with total precipitation greater than or equal to 0.01 inches). High emission scenario (RCP 8.5). NOTE: Please choose None or Reset before choosing another definition query."
},
{
"name": "Heating Degree Days 1976-2005 Historical record",
"description": "Heating Degree Days historical 1976-2005",
"help": "Heating degree days (annual cumulative number of degrees by which the daily average temperature is less than 65°F). Historical record. NOTE: Please choose None or Reset before choosing another definition query."
},
{
"name": "Heating Degree Days 2016-2045 Low emission scenario (RCP 4.5)",
"description": "Heating Degree Days RCP45 2016-2045",
"help": "Heating degree days (annual cumulative number of degrees by which the daily average temperature is less than 65°F). Low emission scenario (RCP 4.5). NOTE: Please choose None or Reset before choosing another definition query."
},
{
"name": "Heating Degree Days 2036-2065 Low emission scenario (RCP 4.5)",
"description": "Heating Degree Days RCP45 2036-2065",
"help": "Heating degree days (annual cumulative number of degrees by which the daily average temperature is less than 65°F). Low emission scenario (RCP 4.5). NOTE: Please choose None or Reset before choosing another definition query."
},
{
"name": "Heating Degree Days 2070-2099 Low emission scenario (RCP 4.5)",
"description": "Heating Degree Days RCP45 2070-2099",
"help": "Heating degree days (annual cumulative number of degrees by which the daily average temperature is less than 65°F). Low emission scenario (RCP 4.5). NOTE: Please choose None or Reset before choosing another definition query."
},
{
"name": "Heating Degree Days 2016-2045 High emission scenario (RCP 8.5)",
"description": "Heating Degree Days RCP85 2016-2045",
"help": "Heating degree days (annual cumulative number of degrees by which the daily average temperature is less than 65°F). High emission scenario (RCP 8.5). NOTE: Please choose None or Reset before choosing another definition query."
},
{
"name": "Heating Degree Days 2036-2065 High emission scenario (RCP 8.5)",
"description": "Heating Degree Days RCP85 2036-2065",
"help": "Heating degree days (annual cumulative number of degrees by which the daily average temperature is less than 65°F). High emission scenario (RCP 8.5). NOTE: Please choose None or Reset before choosing another definition query."
},
{
"name": "Heating Degree Days 2070-2099 High emission scenario (RCP 8.5)",
"description": "Heating Degree Days RCP85 2070-2099",
"help": "Heating degree days (annual cumulative number of degrees by which the daily average temperature is less than 65°F). High emission scenario (RCP 8.5). NOTE: Please choose None or Reset before choosing another definition query."
},
{
"name": "Total Annual Precipitation 1976-2005 Historical record",
"description": "Total Annual Precipitation historical 1976-2005",
"help": "Annual total precipitation (inches). Historical record. NOTE: Please choose None or Reset before choosing another definition query."
},
{
"name": "Total Annual Precipitation 2016-2045 Low emission scenario (RCP 4.5)",
"description": "Total Annual Precipitation RCP45 2016-2045",
"help": "Annual total precipitation (inches). Low emission scenario (RCP 4.5). NOTE: Please choose None or Reset before choosing another definition query."
},
{
"name": "Total Annual Precipitation 2036-2065 Low emission scenario (RCP 4.5)",
"description": "Total Annual Precipitation RCP45 2036-2065",
"help": "Annual total precipitation (inches). Low emission scenario (RCP 4.5). NOTE: Please choose None or Reset before choosing another definition query."
},
{
"name": "Total Annual Precipitation 2070-2099 Low emission scenario (RCP 4.5)",
"description": "Total Annual Precipitation RCP45 2070-2099",
"help": "Annual total precipitation (inches). Low emission scenario (RCP 4.5). NOTE: Please choose None or Reset before choosing another definition query."
},
{
"name": "Total Annual Precipitation 2016-2045 High emission scenario (RCP 8.5)",
"description": "Total Annual Precipitation RCP85 2016-2045",
"help": "Annual total precipitation (inches). High emission scenario (RCP 8.5). NOTE: Please choose None or Reset before choosing another definition query."
},
{
"name": "Total Annual Precipitation 2036-2065 High emission scenario (RCP 8.5)",
"description": "Total Annual Precipitation RCP85 2036-2065",
"help": "Annual total precipitation (inches). High emission scenario (RCP 8.5). NOTE: Please choose None or Reset before choosing another definition query."
},
{
"name": "Total Annual Precipitation 2070-2099 High emission scenario (RCP 8.5)",
"description": "Total Annual Precipitation RCP85 2070-2099",
"help": "Annual total precipitation (inches). High emission scenario (RCP 8.5). NOTE: Please choose None or Reset before choosing another definition query."
},
{
"name": "Annual Precipitation Days Greater than 1 inch 1976-2005 Historical record",
"description": "Annual Precipitation Days Greater than 1 inch historical 1976-2005",
"help": "Annual number of days with total precipitation greater than 1 inch. Historical record. NOTE: Please choose None or Reset before choosing another definition query."
},
{
"name": "Annual Precipitation Days Greater than 1 inch 2016-2045 Low emission scenario (RCP 4.5)",
"description": "Annual Precipitation Days Greater than 1 inch RCP45 2016-2045",
"help": "Annual number of days with total precipitation greater than 1 inch. Low emission scenario (RCP 4.5). NOTE: Please choose None or Reset before choosing another definition query."
},
{
"name": "Annual Precipitation Days Greater than 1 inch 2036-2065 Low emission scenario (RCP 4.5)",
"description": "Annual Precipitation Days Greater than 1 inch RCP45 2036-2065",
"help": "Annual number of days with total precipitation greater than 1 inch. Low emission scenario (RCP 4.5). NOTE: Please choose None or Reset before choosing another definition query."
},
{
"name": "Annual Precipitation Days Greater than 1 inch 2070-2099 Low emission scenario (RCP 4.5)",
"description": "Annual Precipitation Days Greater than 1 inch RCP45 2070-2099",
"help": "Annual number of days with total precipitation greater than 1 inch. Low emission scenario (RCP 4.5). NOTE: Please choose None or Reset before choosing another definition query."
},
{
"name": "Annual Precipitation Days Greater than 1 inch 2016-2045 High emission scenario (RCP 8.5)",
"description": "Annual Precipitation Days Greater than 1 inch RCP85 2016-2045",
"help": "Annual number of days with total precipitation greater than 1 inch. High emission scenario (RCP 8.5). NOTE: Please choose None or Reset before choosing another definition query."
},
{
"name": "Annual Precipitation Days Greater than 1 inch 2036-2065 High emission scenario (RCP 8.5)",
"description": "Annual Precipitation Days Greater than 1 inch RCP85 2036-2065",
"help": "Annual number of days with total precipitation greater than 1 inch. High emission scenario (RCP 8.5). NOTE: Please choose None or Reset before choosing another definition query."
},
{
"name": "Annual Precipitation Days Greater than 1 inch 2070-2099 High emission scenario (RCP 8.5)",
"description": "Annual Precipitation Days Greater than 1 inch RCP85 2070-2099",
"help": "Annual number of days with total precipitation greater than 1 inch. High emission scenario (RCP 8.5). NOTE: Please choose None or Reset before choosing another definition query."
},
{
"name": "Annual Precipitation Days Greater than 2 inches 1976-2005 Historical record",
"description": "Annual Precipitation Days Greater than 2 inches historical 1976-2005",
"help": "Annual number of days with total precipitation greater than 2 inches. Historical record. NOTE: Please choose None or Reset before choosing another definition query."
},
{
"name": "Annual Precipitation Days Greater than 2 inches 2016-2045 Low emission scenario (RCP 4.5)",
"description": "Annual Precipitation Days Greater than 2 inches RCP45 2016-2045",
"help": "Annual number of days with total precipitation greater than 2 inches. Low emission scenario (RCP 4.5). NOTE: Please choose None or Reset before choosing another definition query."
},
{
"name": "Annual Precipitation Days Greater than 2 inches 2036-2065 Low emission scenario (RCP 4.5)",
"description": "Annual Precipitation Days Greater than 2 inches RCP45 2036-2065",
"help": "Annual number of days with total precipitation greater than 2 inches. Low emission scenario (RCP 4.5). NOTE: Please choose None or Reset before choosing another definition query."
},
{
"name": "Annual Precipitation Days Greater than 2 inches 2070-2099 Low emission scenario (RCP 4.5)",
"description": "Annual Precipitation Days Greater than 2 inches RCP45 2070-2099",
"help": "Annual number of days with total precipitation greater than 2 inches. Low emission scenario (RCP 4.5). NOTE: Please choose None or Reset before choosing another definition query."
},
{
"name": "Annual Precipitation Days Greater than 2 inches 2016-2045 High emission scenario (RCP 8.5)",
"description": "Annual Precipitation Days Greater than 2 inches RCP85 2016-2045",
"help": "Annual number of days with total precipitation greater than 2 inches. High emission scenario (RCP 8.5). NOTE: Please choose None or Reset before choosing another definition query."
},
{
"name": "Annual Precipitation Days Greater than 2 inches 2036-2065 High emission scenario (RCP 8.5)",
"description": "Annual Precipitation Days Greater than 2 inches RCP85 2036-2065",
"help": "Annual number of days with total precipitation greater than 2 inches. High emission scenario (RCP 8.5). NOTE: Please choose None or Reset before choosing another definition query."
},
{
"name": "Annual Precipitation Days Greater than 2 inches 2070-2099 High emission scenario (RCP 8.5)",
"description": "Annual Precipitation Days Greater than 2 inches RCP85 2070-2099",
"help": "Annual number of days with total precipitation greater than 2 inches. High emission scenario (RCP 8.5). NOTE: Please choose None or Reset before choosing another definition query."
},
{
"name": "Annual Precipitation Days Greater than 3 inches 1976-2005 Historical record",
"description": "Annual Precipitation Days Greater than 3 inches historical 1976-2005",
"help": "Annual number of days with total precipitation greater than 3 inches. Historical record. NOTE: Please choose None or Reset before choosing another definition query."
},
{
"name": "Annual Precipitation Days Greater than 3 inches 2016-2045 Low emission scenario (RCP 4.5)",
"description": "Annual Precipitation Days Greater than 3 inches RCP45 2016-2045",
"help": "Annual number of days with total precipitation greater than 3 inches. Low emission scenario (RCP 4.5). NOTE: Please choose None or Reset before choosing another definition query."
},
{
"name": "Annual Precipitation Days Greater than 3 inches 2036-2065 Low emission scenario (RCP 4.5)",
"description": "Annual Precipitation Days Greater than 3 inches RCP45 2036-2065",
"help": "Annual number of days with total precipitation greater than 3 inches. Low emission scenario (RCP 4.5). NOTE: Please choose None or Reset before choosing another definition query."
},
{
"name": "Annual Precipitation Days Greater than 3 inches 2070-2099 Low emission scenario (RCP 4.5)",
"description": "Annual Precipitation Days Greater than 3 inches RCP45 2070-2099",
"help": "Annual number of days with total precipitation greater than 3 inches. Low emission scenario (RCP 4.5). NOTE: Please choose None or Reset before choosing another definition query."
},
{
"name": "Annual Precipitation Days Greater than 3 inches 2016-2045 High emission scenario (RCP 8.5)",
"description": "Annual Precipitation Days Greater than 3 inches RCP85 2016-2045",
"help": "Annual number of days with total precipitation greater than 3 inches. High emission scenario (RCP 8.5). NOTE: Please choose None or Reset before choosing another definition query."
},
{
"name": "Annual Precipitation Days Greater than 3 inches 2036-2065 High emission scenario (RCP 8.5)",
"description": "Annual Precipitation Days Greater than 3 inches RCP85 2036-2065",
"help": "Annual number of days with total precipitation greater than 3 inches. High emission scenario (RCP 8.5). NOTE: Please choose None or Reset before choosing another definition query."
},
{
"name": "Annual Precipitation Days Greater than 3 inches 2070-2099 High emission scenario (RCP 8.5)",
"description": "Annual Precipitation Days Greater than 3 inches RCP85 2070-2099",
"help": "Annual number of days with total precipitation greater than 3 inches. High emission scenario (RCP 8.5). NOTE: Please choose None or Reset before choosing another definition query."
},
{
"name": "Annual Precipitation Days Greater than 4 inches 1976-2005 Historical record",
"description": "Annual Precipitation Days Greater than 4 inches historical 1976-2005",
"help": "Annual number of days with total precipitation greater than 4 inches. Historical record. NOTE: Please choose None or Reset before choosing another definition query."
},
{
"name": "Annual Precipitation Days Greater than 4 inches 2016-2045 Low emission scenario (RCP 4.5)",
"description": "Annual Precipitation Days Greater than 4 inches RCP45 2016-2045",
"help": "Annual number of days with total precipitation greater than 4 inches. Low emission scenario (RCP 4.5). NOTE: Please choose None or Reset before choosing another definition query."
},
{
"name": "Annual Precipitation Days Greater than 4 inches 2036-2065 Low emission scenario (RCP 4.5)",
"description": "Annual Precipitation Days Greater than 4 inches RCP45 2036-2065",
"help": "Annual number of days with total precipitation greater than 4 inches. Low emission scenario (RCP 4.5). NOTE: Please choose None or Reset before choosing another definition query."
},
{
"name": "Annual Precipitation Days Greater than 4 inches 2070-2099 Low emission scenario (RCP 4.5)",
"description": "Annual Precipitation Days Greater than 4 inches RCP45 2070-2099",
"help": "Annual number of days with total precipitation greater than 4 inches. Low emission scenario (RCP 4.5). NOTE: Please choose None or Reset before choosing another definition query."
},
{
"name": "Annual Precipitation Days Greater than 4 inches 2016-2045 High emission scenario (RCP 8.5)",
"description": "Annual Precipitation Days Greater than 4 inches RCP85 2016-2045",
"help": "Annual number of days with total precipitation greater than 4 inches. High emission scenario (RCP 8.5). NOTE: Please choose None or Reset before choosing another definition query."
},
{
"name": "Annual Precipitation Days Greater than 4 inches 2036-2065 High emission scenario (RCP 8.5)",
"description": "Annual Precipitation Days Greater than 4 inches RCP85 2036-2065",
"help": "Annual number of days with total precipitation greater than 4 inches. High emission scenario (RCP 8.5). NOTE: Please choose None or Reset before choosing another definition query."
},
{
"name": "Annual Precipitation Days Greater than 4 inches 2070-2099 High emission scenario (RCP 8.5)",
"description": "Annual Precipitation Days Greater than 4 inches RCP85 2070-2099",
"help": "Annual number of days with total precipitation greater than 4 inches. High emission scenario (RCP 8.5). NOTE: Please choose None or Reset before choosing another definition query."
},
{
"name": "Annual Highest Precipitation for a single day 1976-2005 Historical record",
"description": "Annual Highest Precipitation for a single day historical 1976-2005",
"help": "Annual highest precipitation total for a single day (Inches). Historical record. NOTE: Please choose None or Reset before choosing another definition query."
},
{
