View In:
ArcGIS JavaScript
ArcGIS Online Map Viewer
ArcGIS Earth
ArcMap
View Footprint In:
ArcGIS Online Map Viewer
Service Description: High-tide flooding, often referred to as “king tides,” “nuisance,” or “sunny day” flooding, is becoming increasingly common due to years of sea level rise. High Tide Flooding (HTF) is defined as the overflow or excess accumulation of ocean water at high tide that covers low-lying areas, and typically occurs when tides reach anywhere from 1.75 to 2 feet above the daily average high tide and start spilling onto streets or bubbling up from storm drains. As sea level rise continues, damaging floods that happened decades ago only during a storm now happen more regularly, like during a full-moon or with a change in prevailing winds or currents.
Name: US_Minor_High_Tide_Flooding
Description: High-tide flooding, often referred to as “king tides,” “nuisance,” or “sunny day” flooding, is becoming increasingly common due to years of sea level rise. High Tide Flooding (HTF) is defined as the overflow or excess accumulation of ocean water at high tide that covers low-lying areas, and typically occurs when tides reach anywhere from 1.75 to 2 feet above the daily average high tide and start spilling onto streets or bubbling up from storm drains. As sea level rise continues, damaging floods that happened decades ago only during a storm now happen more regularly, like during a full-moon or with a change in prevailing winds or currents.
Single Fused Map Cache: false
Extent:
XMin: -170.89864833
YMin: -14.424560540000009
XMax: 145.83294759000003
YMax: 49.00336161
Spatial Reference: 4326
(4326)
Initial Extent:
XMin: -170.89864833
YMin: -14.424560540000009
XMax: 145.83294759000003
YMax: 49.00336161
Spatial Reference: 4326
(4326)
Full Extent:
XMin: -170.89864833
YMin: -14.424560540000009
XMax: 145.83294759000003
YMax: 49.00336161
Spatial Reference: 4326
(4326)
Pixel Size X: 2.694945850520727E-5
Pixel Size Y: 2.694945850760626E-5
Band Count: 1
Pixel Type: U8
RasterFunction Infos: {"rasterFunctionInfos": [{
"name": "None",
"description": "",
"help": ""
}]}
Mensuration Capabilities: Basic
Has Histograms: true
Has Colormap: false
Has Multi Dimensions : false
Rendering Rule:
Min Scale: 0
Max Scale: 0
Copyright Text: NOAA
Service Data Type: esriImageServiceDataTypeGeneric
Min Values: 1
Max Values: 1
Mean Values: 1
Standard Deviation Values: 0
Object ID Field:
Fields:
None
Default Mosaic Method: Center
Allowed Mosaic Methods:
SortField:
SortValue: null
Mosaic Operator: First
Default Compression Quality: 75
Default Resampling Method: Bilinear
Max Record Count: null
Max Image Height: 4100
Max Image Width: 15000
Max Download Image Count: null
Max Mosaic Image Count: null
Allow Raster Function: true
Allow Copy: null
Allow Analysis: null
Allow Compute TiePoints: false
Supports Statistics: false
Supports Advanced Queries: false
Use StandardizedQueries: true
Raster Type Infos:
Name: Raster Dataset
Description: Supports all ArcGIS Raster Datasets
Help:
Has Raster Attribute Table: true
Edit Fields Info: null
Ownership Based AccessControl For Rasters: null
Child Resources:
Info
Raster Attribute Table
Histograms
Key Properties
Legend
Raster Function Infos
Supported Operations:
Export Image
Identify
Measure
Compute Histograms
Compute Statistics Histograms
Get Samples
Compute Class Statistics
Query Boundary
Compute Pixel Location
Compute Angles
Validate
Project